BEGIN:VCALENDAR
VERSION:2.0
PRODID:-//Fahrschule Dubovsky - ECPv6.15.20//NONSGML v1.0//EN
CALSCALE:GREGORIAN
METHOD:PUBLISH
X-ORIGINAL-URL:https://fahrschule-dubovsky.at
X-WR-CALDESC:Veranstaltungen für Fahrschule Dubovsky
REFRESH-INTERVAL;VALUE=DURATION:PT1H
X-Robots-Tag:noindex
X-PUBLISHED-TTL:PT1H
BEGIN:VTIMEZONE
TZID:Europe/Vienna
BEGIN:DAYLIGHT
TZOFFSETFROM:+0100
TZOFFSETTO:+0200
TZNAME:CEST
DTSTART:20250330T010000
END:DAYLIGHT
BEGIN:STANDARD
TZOFFSETFROM:+0200
TZOFFSETTO:+0100
TZNAME:CET
DTSTART:20251026T010000
END:STANDARD
BEGIN:DAYLIGHT
TZOFFSETFROM:+0100
TZOFFSETTO:+0200
TZNAME:CEST
DTSTART:20260329T010000
END:DAYLIGHT
BEGIN:STANDARD
TZOFFSETFROM:+0200
TZOFFSETTO:+0100
TZNAME:CET
DTSTART:20261025T010000
END:STANDARD
BEGIN:DAYLIGHT
TZOFFSETFROM:+0100
TZOFFSETTO:+0200
TZNAME:CEST
DTSTART:20270328T010000
END:DAYLIGHT
BEGIN:STANDARD
TZOFFSETFROM:+0200
TZOFFSETTO:+0100
TZNAME:CET
DTSTART:20271031T010000
END:STANDARD
END:VTIMEZONE
BEGIN:VEVENT
DTSTART;TZID=Europe/Vienna:20260904T133000
DTEND;TZID=Europe/Vienna:20260904T173000
DTSTAMP:20260423T105513
CREATED:20260304T000148Z
LAST-MODIFIED:20260416T181733Z
UID:10006816-1788528600-1788543000@fahrschule-dubovsky.at
SUMMARY:C Kurs (C/F/D/D95/C95)
DESCRIPTION:
URL:https://fahrschule-dubovsky.at/termin/c-kurs-c-f-d-d95-c95-18/
LOCATION:Fahrschule Dubovsky SÜD\, Triesterstraße 432/Grenzgasse 4\, 8055 Graz
CATEGORIES:Dubovsky Center
END:VEVENT
BEGIN:VEVENT
DTSTART;TZID=Europe/Vienna:20260905T083000
DTEND;TZID=Europe/Vienna:20260905T113000
DTSTAMP:20260423T105513
CREATED:20260305T000132Z
LAST-MODIFIED:20260416T181733Z
UID:10006817-1788597000-1788607800@fahrschule-dubovsky.at
SUMMARY:F-Kurs (C/F/C95)
DESCRIPTION:
URL:https://fahrschule-dubovsky.at/termin/f-kurs-c-f-c95-21/
LOCATION:Fahrschule Dubovsky SÜD\, Triesterstraße 432/Grenzgasse 4\, 8055 Graz
CATEGORIES:Dubovsky Center
END:VEVENT
BEGIN:VEVENT
DTSTART;TZID=Europe/Vienna:20260907T133000
DTEND;TZID=Europe/Vienna:20260907T173000
DTSTAMP:20260423T105513
CREATED:20260306T230236Z
LAST-MODIFIED:20260416T181733Z
UID:10006820-1788787800-1788802200@fahrschule-dubovsky.at
SUMMARY:CE Kurs (C/CE/C95)
DESCRIPTION:
URL:https://fahrschule-dubovsky.at/termin/ce-kurs-c-ce-c95-21/
LOCATION:Fahrschule Dubovsky SÜD\, Triesterstraße 432/Grenzgasse 4\, 8055 Graz
CATEGORIES:Dubovsky Center
END:VEVENT
BEGIN:VEVENT
DTSTART;TZID=Europe/Vienna:20261002T133000
DTEND;TZID=Europe/Vienna:20261002T173000
DTSTAMP:20260423T105513
CREATED:20260401T224744Z
LAST-MODIFIED:20260416T181736Z
UID:10006851-1790947800-1790962200@fahrschule-dubovsky.at
SUMMARY:C Kurs (C/F/D/D95/C95)
DESCRIPTION:
URL:https://fahrschule-dubovsky.at/termin/c-kurs-c-f-d-d95-c95-19/
LOCATION:Fahrschule Dubovsky SÜD\, Triesterstraße 432/Grenzgasse 4\, 8055 Graz
CATEGORIES:Dubovsky Center
END:VEVENT
BEGIN:VEVENT
DTSTART;TZID=Europe/Vienna:20261003T083000
DTEND;TZID=Europe/Vienna:20261003T113000
DTSTAMP:20260423T105513
CREATED:20260402T220214Z
LAST-MODIFIED:20260416T181736Z
UID:10006853-1791016200-1791027000@fahrschule-dubovsky.at
SUMMARY:F-Kurs (C/F/C95)
DESCRIPTION:
URL:https://fahrschule-dubovsky.at/termin/f-kurs-c-f-c95-22/
LOCATION:Fahrschule Dubovsky SÜD\, Triesterstraße 432/Grenzgasse 4\, 8055 Graz
CATEGORIES:Dubovsky Center
END:VEVENT
BEGIN:VEVENT
DTSTART;TZID=Europe/Vienna:20261005T133000
DTEND;TZID=Europe/Vienna:20261005T173000
DTSTAMP:20260423T105513
CREATED:20260404T223237Z
LAST-MODIFIED:20260416T181737Z
UID:10006855-1791207000-1791221400@fahrschule-dubovsky.at
SUMMARY:CE Kurs (C/CE/C95)
DESCRIPTION:
URL:https://fahrschule-dubovsky.at/termin/ce-kurs-c-ce-c95-22/
LOCATION:Fahrschule Dubovsky SÜD\, Triesterstraße 432/Grenzgasse 4\, 8055 Graz
CATEGORIES:Dubovsky Center
END:VEVENT
END:VCALENDAR