BEGIN:VCALENDAR
VERSION:2.0
PRODID:-//Fahrschule Dubovsky - ECPv6.15.20//NONSGML v1.0//EN
CALSCALE:GREGORIAN
METHOD:PUBLISH
X-ORIGINAL-URL:https://fahrschule-dubovsky.at
X-WR-CALDESC:Veranstaltungen für Fahrschule Dubovsky
REFRESH-INTERVAL;VALUE=DURATION:PT1H
X-Robots-Tag:noindex
X-PUBLISHED-TTL:PT1H
BEGIN:VTIMEZONE
TZID:Europe/Vienna
BEGIN:DAYLIGHT
TZOFFSETFROM:+0100
TZOFFSETTO:+0200
TZNAME:CEST
DTSTART:20250330T010000
END:DAYLIGHT
BEGIN:STANDARD
TZOFFSETFROM:+0200
TZOFFSETTO:+0100
TZNAME:CET
DTSTART:20251026T010000
END:STANDARD
BEGIN:DAYLIGHT
TZOFFSETFROM:+0100
TZOFFSETTO:+0200
TZNAME:CEST
DTSTART:20260329T010000
END:DAYLIGHT
BEGIN:STANDARD
TZOFFSETFROM:+0200
TZOFFSETTO:+0100
TZNAME:CET
DTSTART:20261025T010000
END:STANDARD
BEGIN:DAYLIGHT
TZOFFSETFROM:+0100
TZOFFSETTO:+0200
TZNAME:CEST
DTSTART:20270328T010000
END:DAYLIGHT
BEGIN:STANDARD
TZOFFSETFROM:+0200
TZOFFSETTO:+0100
TZNAME:CET
DTSTART:20271031T010000
END:STANDARD
END:VTIMEZONE
BEGIN:VEVENT
DTSTART;TZID=Europe/Vienna:20260803T093000
DTEND;TZID=Europe/Vienna:20260803T133000
DTSTAMP:20260424T001333
CREATED:20260202T234647Z
LAST-MODIFIED:20260416T181727Z
UID:10006756-1785749400-1785763800@fahrschule-dubovsky.at
SUMMARY:Grundwissen 9/10
DESCRIPTION:
URL:https://fahrschule-dubovsky.at/termin/grundwissen-9-10-88/
LOCATION:Fahrschule Dubovsky Schönaugasse 19 8010 Graz Lehrsaal 1
CATEGORIES:Dubovsky Center
END:VEVENT
BEGIN:VEVENT
DTSTART;TZID=Europe/Vienna:20260803T162000
DTEND;TZID=Europe/Vienna:20260803T200000
DTSTAMP:20260424T001333
CREATED:20260202T234647Z
LAST-MODIFIED:20260416T181727Z
UID:10006757-1785774000-1785787200@fahrschule-dubovsky.at
SUMMARY:Grundwissen 9/10
DESCRIPTION:
URL:https://fahrschule-dubovsky.at/termin/grundwissen-9-10-89/
LOCATION:Fahrschule Dubovsky Schönaugasse 19 8010 Graz Lehrsaal 1
CATEGORIES:Dubovsky Center
END:VEVENT
BEGIN:VEVENT
DTSTART;TZID=Europe/Vienna:20260804T093000
DTEND;TZID=Europe/Vienna:20260804T133000
DTSTAMP:20260424T001333
CREATED:20260203T234649Z
LAST-MODIFIED:20260416T181727Z
UID:10006759-1785835800-1785850200@fahrschule-dubovsky.at
SUMMARY:B-Kurs 1/2
DESCRIPTION:
URL:https://fahrschule-dubovsky.at/termin/b-kurs-1-2-88/
LOCATION:Fahrschule Dubovsky Schönaugasse 19 8010 Graz Lehrsaal 1
CATEGORIES:Dubovsky Center
END:VEVENT
BEGIN:VEVENT
DTSTART;TZID=Europe/Vienna:20260804T133000
DTEND;TZID=Europe/Vienna:20260804T150000
DTSTAMP:20260424T001333
CREATED:20260203T234649Z
LAST-MODIFIED:20260416T181727Z
UID:10006758-1785850200-1785855600@fahrschule-dubovsky.at
SUMMARY:Theorieprüfung
DESCRIPTION:
URL:https://fahrschule-dubovsky.at/termin/theoriepruefung-57/
LOCATION:Fahrschule Dubovsky Schönaugasse 19 8010 Graz Lehrsaal 1
CATEGORIES:Dubovsky Center
END:VEVENT
BEGIN:VEVENT
DTSTART;TZID=Europe/Vienna:20260804T162000
DTEND;TZID=Europe/Vienna:20260804T202000
DTSTAMP:20260424T001333
CREATED:20260203T234650Z
LAST-MODIFIED:20260416T181727Z
UID:10006760-1785860400-1785874800@fahrschule-dubovsky.at
SUMMARY:B-Kurs 1/2
DESCRIPTION:
URL:https://fahrschule-dubovsky.at/termin/b-kurs-1-2-89/
LOCATION:Fahrschule Dubovsky Schönaugasse 19 8010 Graz Lehrsaal 1
CATEGORIES:Dubovsky Center
END:VEVENT
BEGIN:VEVENT
DTSTART;TZID=Europe/Vienna:20260805T093000
DTEND;TZID=Europe/Vienna:20260805T133000
DTSTAMP:20260424T001333
CREATED:20260204T231657Z
LAST-MODIFIED:20260416T181727Z
UID:10006761-1785922200-1785936600@fahrschule-dubovsky.at
SUMMARY:B-Kurs 3/4
DESCRIPTION:
URL:https://fahrschule-dubovsky.at/termin/b-kurs-3-4-86/
LOCATION:Fahrschule Dubovsky Schönaugasse 19 8010 Graz Lehrsaal 1
CATEGORIES:Dubovsky Center
END:VEVENT
BEGIN:VEVENT
DTSTART;TZID=Europe/Vienna:20260805T162000
DTEND;TZID=Europe/Vienna:20260805T202000
DTSTAMP:20260424T001333
CREATED:20260204T231658Z
LAST-MODIFIED:20260416T181727Z
UID:10006762-1785946800-1785961200@fahrschule-dubovsky.at
SUMMARY:B-Kurs 3/4
DESCRIPTION:
URL:https://fahrschule-dubovsky.at/termin/b-kurs-3-4-87/
LOCATION:Fahrschule Dubovsky Schönaugasse 19 8010 Graz Lehrsaal 1
CATEGORIES:Dubovsky Center
END:VEVENT
BEGIN:VEVENT
DTSTART;TZID=Europe/Vienna:20260806T093000
DTEND;TZID=Europe/Vienna:20260806T133000
DTSTAMP:20260424T001333
CREATED:20260205T231723Z
LAST-MODIFIED:20260416T181727Z
UID:10006763-1786008600-1786023000@fahrschule-dubovsky.at
SUMMARY:B-Kurs 5/6
DESCRIPTION:
URL:https://fahrschule-dubovsky.at/termin/b-kurs-5-6-81/
LOCATION:Fahrschule Dubovsky Schönaugasse 19 8010 Graz Lehrsaal 1
CATEGORIES:Dubovsky Center
END:VEVENT
BEGIN:VEVENT
DTSTART;TZID=Europe/Vienna:20260806T162000
DTEND;TZID=Europe/Vienna:20260806T202000
DTSTAMP:20260424T001333
CREATED:20260205T231723Z
LAST-MODIFIED:20260416T181727Z
UID:10006764-1786033200-1786047600@fahrschule-dubovsky.at
SUMMARY:B-Kurs 5/6
DESCRIPTION:
URL:https://fahrschule-dubovsky.at/termin/b-kurs-5-6-82/
LOCATION:Fahrschule Dubovsky Schönaugasse 19 8010 Graz Lehrsaal 1
CATEGORIES:Dubovsky Center
END:VEVENT
BEGIN:VEVENT
DTSTART;TZID=Europe/Vienna:20260810T093000
DTEND;TZID=Europe/Vienna:20260810T133000
DTSTAMP:20260424T001333
CREATED:20260209T234722Z
LAST-MODIFIED:20260416T181728Z
UID:10006768-1786354200-1786368600@fahrschule-dubovsky.at
SUMMARY:Grundwissen 1/2
DESCRIPTION:
URL:https://fahrschule-dubovsky.at/termin/grundwissen-1-2-70/
LOCATION:Fahrschule Dubovsky Schönaugasse 19 8010 Graz Lehrsaal 1
CATEGORIES:Dubovsky Center
END:VEVENT
BEGIN:VEVENT
DTSTART;TZID=Europe/Vienna:20260810T162000
DTEND;TZID=Europe/Vienna:20260810T200000
DTSTAMP:20260424T001333
CREATED:20260209T234723Z
LAST-MODIFIED:20260416T181728Z
UID:10006769-1786378800-1786392000@fahrschule-dubovsky.at
SUMMARY:Grundwissen 1/2
DESCRIPTION:
URL:https://fahrschule-dubovsky.at/termin/grundwissen-1-2-71/
LOCATION:Fahrschule Dubovsky Schönaugasse 19 8010 Graz Lehrsaal 1
CATEGORIES:Dubovsky Center
END:VEVENT
BEGIN:VEVENT
DTSTART;TZID=Europe/Vienna:20260811T093000
DTEND;TZID=Europe/Vienna:20260811T133000
DTSTAMP:20260424T001333
CREATED:20260210T233146Z
LAST-MODIFIED:20260416T181728Z
UID:10006772-1786440600-1786455000@fahrschule-dubovsky.at
SUMMARY:Grundwissen 3/4
DESCRIPTION:
URL:https://fahrschule-dubovsky.at/termin/grundwissen-3-4-73/
LOCATION:Fahrschule Dubovsky Schönaugasse 19 8010 Graz Lehrsaal 1
CATEGORIES:Dubovsky Center
END:VEVENT
BEGIN:VEVENT
DTSTART;TZID=Europe/Vienna:20260811T162000
DTEND;TZID=Europe/Vienna:20260811T200000
DTSTAMP:20260424T001333
CREATED:20260210T233146Z
LAST-MODIFIED:20260416T181728Z
UID:10006773-1786465200-1786478400@fahrschule-dubovsky.at
SUMMARY:Grundwissen 3/4
DESCRIPTION:
URL:https://fahrschule-dubovsky.at/termin/grundwissen-3-4-74/
LOCATION:Fahrschule Dubovsky Schönaugasse 19 8010 Graz Lehrsaal 1
CATEGORIES:Dubovsky Center
END:VEVENT
BEGIN:VEVENT
DTSTART;TZID=Europe/Vienna:20260812T093000
DTEND;TZID=Europe/Vienna:20260812T133000
DTSTAMP:20260424T001333
CREATED:20260211T234649Z
LAST-MODIFIED:20260416T181728Z
UID:10006774-1786527000-1786541400@fahrschule-dubovsky.at
SUMMARY:Grundwissen 5/6
DESCRIPTION:
URL:https://fahrschule-dubovsky.at/termin/grundwissen-5-6-86/
LOCATION:Fahrschule Dubovsky Schönaugasse 19 8010 Graz Lehrsaal 1
CATEGORIES:Dubovsky Center
END:VEVENT
BEGIN:VEVENT
DTSTART;TZID=Europe/Vienna:20260812T162000
DTEND;TZID=Europe/Vienna:20260812T200000
DTSTAMP:20260424T001333
CREATED:20260211T234649Z
LAST-MODIFIED:20260416T181728Z
UID:10006775-1786551600-1786564800@fahrschule-dubovsky.at
SUMMARY:Grundwissen 5/6
DESCRIPTION:
URL:https://fahrschule-dubovsky.at/termin/grundwissen-5-6-87/
LOCATION:Fahrschule Dubovsky Schönaugasse 19 8010 Graz Lehrsaal 1
CATEGORIES:Dubovsky Center
END:VEVENT
BEGIN:VEVENT
DTSTART;TZID=Europe/Vienna:20260813T093000
DTEND;TZID=Europe/Vienna:20260813T133000
DTSTAMP:20260424T001333
CREATED:20260212T230143Z
LAST-MODIFIED:20260416T181728Z
UID:10006776-1786613400-1786627800@fahrschule-dubovsky.at
SUMMARY:Grundwissen 7/8
DESCRIPTION:
URL:https://fahrschule-dubovsky.at/termin/grundwissen-7-8-83/
LOCATION:Fahrschule Dubovsky Schönaugasse 19 8010 Graz Lehrsaal 1
CATEGORIES:Dubovsky Center
END:VEVENT
BEGIN:VEVENT
DTSTART;TZID=Europe/Vienna:20260813T162000
DTEND;TZID=Europe/Vienna:20260813T202000
DTSTAMP:20260424T001333
CREATED:20260212T230143Z
LAST-MODIFIED:20260416T181729Z
UID:10006777-1786638000-1786652400@fahrschule-dubovsky.at
SUMMARY:Grundwissen 7/8
DESCRIPTION:
URL:https://fahrschule-dubovsky.at/termin/grundwissen-7-8-84/
LOCATION:Fahrschule Dubovsky Schönaugasse 19 8010 Graz Lehrsaal 1
CATEGORIES:Dubovsky Center
END:VEVENT
BEGIN:VEVENT
DTSTART;TZID=Europe/Vienna:20260817T093000
DTEND;TZID=Europe/Vienna:20260817T133000
DTSTAMP:20260424T001333
CREATED:20260216T231716Z
LAST-MODIFIED:20260416T181729Z
UID:10006783-1786959000-1786973400@fahrschule-dubovsky.at
SUMMARY:Grundwissen 9/10
DESCRIPTION:
URL:https://fahrschule-dubovsky.at/termin/grundwissen-9-10-90/
LOCATION:Fahrschule Dubovsky Schönaugasse 19 8010 Graz Lehrsaal 1
CATEGORIES:Dubovsky Center
END:VEVENT
BEGIN:VEVENT
DTSTART;TZID=Europe/Vienna:20260817T162000
DTEND;TZID=Europe/Vienna:20260817T200000
DTSTAMP:20260424T001333
CREATED:20260216T231717Z
LAST-MODIFIED:20260416T181729Z
UID:10006784-1786983600-1786996800@fahrschule-dubovsky.at
SUMMARY:Grundwissen 9/10
DESCRIPTION:
URL:https://fahrschule-dubovsky.at/termin/grundwissen-9-10-91/
LOCATION:Fahrschule Dubovsky Schönaugasse 19 8010 Graz Lehrsaal 1
CATEGORIES:Dubovsky Center
END:VEVENT
BEGIN:VEVENT
DTSTART;TZID=Europe/Vienna:20260818T093000
DTEND;TZID=Europe/Vienna:20260818T133000
DTSTAMP:20260424T001333
CREATED:20260217T230139Z
LAST-MODIFIED:20260416T181729Z
UID:10006786-1787045400-1787059800@fahrschule-dubovsky.at
SUMMARY:B-Kurs 1/2
DESCRIPTION:
URL:https://fahrschule-dubovsky.at/termin/b-kurs-1-2-90/
LOCATION:Fahrschule Dubovsky Schönaugasse 19 8010 Graz Lehrsaal 1
CATEGORIES:Dubovsky Center
END:VEVENT
BEGIN:VEVENT
DTSTART;TZID=Europe/Vienna:20260818T133000
DTEND;TZID=Europe/Vienna:20260818T150000
DTSTAMP:20260424T001333
CREATED:20260217T230139Z
LAST-MODIFIED:20260416T181729Z
UID:10006785-1787059800-1787065200@fahrschule-dubovsky.at
SUMMARY:Theorieprüfung
DESCRIPTION:
URL:https://fahrschule-dubovsky.at/termin/theoriepruefung-58/
LOCATION:Fahrschule Dubovsky Schönaugasse 19 8010 Graz Lehrsaal 1
CATEGORIES:Dubovsky Center
END:VEVENT
BEGIN:VEVENT
DTSTART;TZID=Europe/Vienna:20260818T162000
DTEND;TZID=Europe/Vienna:20260818T202000
DTSTAMP:20260424T001333
CREATED:20260217T230140Z
LAST-MODIFIED:20260416T181729Z
UID:10006787-1787070000-1787084400@fahrschule-dubovsky.at
SUMMARY:B-Kurs 1/2
DESCRIPTION:
URL:https://fahrschule-dubovsky.at/termin/b-kurs-1-2-91/
LOCATION:Fahrschule Dubovsky Schönaugasse 19 8010 Graz Lehrsaal 1
CATEGORIES:Dubovsky Center
END:VEVENT
BEGIN:VEVENT
DTSTART;TZID=Europe/Vienna:20260819T093000
DTEND;TZID=Europe/Vienna:20260819T133000
DTSTAMP:20260424T001333
CREATED:20260219T000208Z
LAST-MODIFIED:20260416T181729Z
UID:10006788-1787131800-1787146200@fahrschule-dubovsky.at
SUMMARY:B-Kurs 3/4
DESCRIPTION:
URL:https://fahrschule-dubovsky.at/termin/b-kurs-3-4-88/
LOCATION:Fahrschule Dubovsky Schönaugasse 19 8010 Graz Lehrsaal 1
CATEGORIES:Dubovsky Center
END:VEVENT
BEGIN:VEVENT
DTSTART;TZID=Europe/Vienna:20260819T162000
DTEND;TZID=Europe/Vienna:20260819T202000
DTSTAMP:20260424T001333
CREATED:20260219T000209Z
LAST-MODIFIED:20260416T181729Z
UID:10006789-1787156400-1787170800@fahrschule-dubovsky.at
SUMMARY:B-Kurs 3/4
DESCRIPTION:
URL:https://fahrschule-dubovsky.at/termin/b-kurs-3-4-89/
LOCATION:Fahrschule Dubovsky Schönaugasse 19 8010 Graz Lehrsaal 1
CATEGORIES:Dubovsky Center
END:VEVENT
BEGIN:VEVENT
DTSTART;TZID=Europe/Vienna:20260820T093000
DTEND;TZID=Europe/Vienna:20260820T133000
DTSTAMP:20260424T001333
CREATED:20260219T230218Z
LAST-MODIFIED:20260416T181729Z
UID:10006790-1787218200-1787232600@fahrschule-dubovsky.at
SUMMARY:B-Kurs 5/6
DESCRIPTION:
URL:https://fahrschule-dubovsky.at/termin/b-kurs-5-6-83/
LOCATION:Fahrschule Dubovsky Schönaugasse 19 8010 Graz Lehrsaal 1
CATEGORIES:Dubovsky Center
END:VEVENT
BEGIN:VEVENT
DTSTART;TZID=Europe/Vienna:20260820T162000
DTEND;TZID=Europe/Vienna:20260820T202000
DTSTAMP:20260424T001333
CREATED:20260219T230218Z
LAST-MODIFIED:20260416T181729Z
UID:10006791-1787242800-1787257200@fahrschule-dubovsky.at
SUMMARY:B-Kurs 5/6
DESCRIPTION:
URL:https://fahrschule-dubovsky.at/termin/b-kurs-5-6-84/
LOCATION:Fahrschule Dubovsky Schönaugasse 19 8010 Graz Lehrsaal 1
CATEGORIES:Dubovsky Center
END:VEVENT
BEGIN:VEVENT
DTSTART;TZID=Europe/Vienna:20260821T133000
DTEND;TZID=Europe/Vienna:20260821T193000
DTSTAMP:20260424T001333
CREATED:20260220T234642Z
LAST-MODIFIED:20260416T181730Z
UID:10006792-1787319000-1787340600@fahrschule-dubovsky.at
SUMMARY:Mopedkurs
DESCRIPTION:
URL:https://fahrschule-dubovsky.at/termin/mopedkurs-32/
LOCATION:Fahrschule Dubovsky Schönaugasse 19 8010 Graz Lehrsaal 1
CATEGORIES:Dubovsky Center
END:VEVENT
BEGIN:VEVENT
DTSTART;TZID=Europe/Vienna:20260824T093000
DTEND;TZID=Europe/Vienna:20260824T133000
DTSTAMP:20260424T001333
CREATED:20260223T234629Z
LAST-MODIFIED:20260416T181731Z
UID:10006793-1787563800-1787578200@fahrschule-dubovsky.at
SUMMARY:Grundwissen 1/2
DESCRIPTION:
URL:https://fahrschule-dubovsky.at/termin/grundwissen-1-2-72/
LOCATION:Fahrschule Dubovsky Schönaugasse 19 8010 Graz Lehrsaal 1
CATEGORIES:Dubovsky Center
END:VEVENT
BEGIN:VEVENT
DTSTART;TZID=Europe/Vienna:20260824T162000
DTEND;TZID=Europe/Vienna:20260824T200000
DTSTAMP:20260424T001333
CREATED:20260223T234630Z
LAST-MODIFIED:20260416T181731Z
UID:10006794-1787588400-1787601600@fahrschule-dubovsky.at
SUMMARY:Grundwissen 1/2
DESCRIPTION:
URL:https://fahrschule-dubovsky.at/termin/grundwissen-1-2-73/
LOCATION:Fahrschule Dubovsky Schönaugasse 19 8010 Graz Lehrsaal 1
CATEGORIES:Dubovsky Center
END:VEVENT
BEGIN:VEVENT
DTSTART;TZID=Europe/Vienna:20260825T093000
DTEND;TZID=Europe/Vienna:20260825T133000
DTSTAMP:20260424T001333
CREATED:20260224T231635Z
LAST-MODIFIED:20260416T181731Z
UID:10006795-1787650200-1787664600@fahrschule-dubovsky.at
SUMMARY:Grundwissen 3/4
DESCRIPTION:
URL:https://fahrschule-dubovsky.at/termin/grundwissen-3-4-75/
LOCATION:Fahrschule Dubovsky Schönaugasse 19 8010 Graz Lehrsaal 1
CATEGORIES:Dubovsky Center
END:VEVENT
END:VCALENDAR