BEGIN:VCALENDAR
VERSION:2.0
PRODID:-//Fahrschule Dubovsky - ECPv6.15.20//NONSGML v1.0//EN
CALSCALE:GREGORIAN
METHOD:PUBLISH
X-WR-CALNAME:Fahrschule Dubovsky
X-ORIGINAL-URL:https://fahrschule-dubovsky.at
X-WR-CALDESC:Veranstaltungen für Fahrschule Dubovsky
REFRESH-INTERVAL;VALUE=DURATION:PT1H
X-Robots-Tag:noindex
X-PUBLISHED-TTL:PT1H
BEGIN:VTIMEZONE
TZID:Europe/Vienna
BEGIN:DAYLIGHT
TZOFFSETFROM:+0100
TZOFFSETTO:+0200
TZNAME:CEST
DTSTART:20250330T010000
END:DAYLIGHT
BEGIN:STANDARD
TZOFFSETFROM:+0200
TZOFFSETTO:+0100
TZNAME:CET
DTSTART:20251026T010000
END:STANDARD
BEGIN:DAYLIGHT
TZOFFSETFROM:+0100
TZOFFSETTO:+0200
TZNAME:CEST
DTSTART:20260329T010000
END:DAYLIGHT
BEGIN:STANDARD
TZOFFSETFROM:+0200
TZOFFSETTO:+0100
TZNAME:CET
DTSTART:20261025T010000
END:STANDARD
BEGIN:DAYLIGHT
TZOFFSETFROM:+0100
TZOFFSETTO:+0200
TZNAME:CEST
DTSTART:20270328T010000
END:DAYLIGHT
BEGIN:STANDARD
TZOFFSETFROM:+0200
TZOFFSETTO:+0100
TZNAME:CET
DTSTART:20271031T010000
END:STANDARD
END:VTIMEZONE
BEGIN:VEVENT
DTSTART;TZID=Europe/Vienna:20260611T162000
DTEND;TZID=Europe/Vienna:20260611T202000
DTSTAMP:20260423T181824
CREATED:20251210T231711Z
LAST-MODIFIED:20260416T181720Z
UID:10006664-1781194800-1781209200@fahrschule-dubovsky.at
SUMMARY:B-Kurs 5/6
DESCRIPTION:
URL:https://fahrschule-dubovsky.at/termin/b-kurs-5-6-74/
LOCATION:Fahrschule Dubovsky Schönaugasse 19 8010 Graz Lehrsaal 1
CATEGORIES:Dubovsky Center
END:VEVENT
BEGIN:VEVENT
DTSTART;TZID=Europe/Vienna:20260615T162000
DTEND;TZID=Europe/Vienna:20260615T200000
DTSTAMP:20260423T181824
CREATED:20251214T230145Z
LAST-MODIFIED:20260416T181721Z
UID:10006670-1781540400-1781553600@fahrschule-dubovsky.at
SUMMARY:Grundwissen 1/2
DESCRIPTION:
URL:https://fahrschule-dubovsky.at/termin/grundwissen-1-2-63/
LOCATION:Fahrschule Dubovsky Schönaugasse 19 8010 Graz Lehrsaal 1
CATEGORIES:Dubovsky Center
END:VEVENT
BEGIN:VEVENT
DTSTART;TZID=Europe/Vienna:20260616T162000
DTEND;TZID=Europe/Vienna:20260616T200000
DTSTAMP:20260423T181824
CREATED:20251215T234641Z
LAST-MODIFIED:20260416T181721Z
UID:10006675-1781626800-1781640000@fahrschule-dubovsky.at
SUMMARY:Grundwissen 3/4
DESCRIPTION:
URL:https://fahrschule-dubovsky.at/termin/grundwissen-3-4-66/
LOCATION:Fahrschule Dubovsky Schönaugasse 19 8010 Graz Lehrsaal 1
CATEGORIES:Dubovsky Center
END:VEVENT
BEGIN:VEVENT
DTSTART;TZID=Europe/Vienna:20260617T162000
DTEND;TZID=Europe/Vienna:20260617T200000
DTSTAMP:20260423T181824
CREATED:20251216T230151Z
LAST-MODIFIED:20260416T181721Z
UID:10006676-1781713200-1781726400@fahrschule-dubovsky.at
SUMMARY:Grundwissen 5/6
DESCRIPTION:
URL:https://fahrschule-dubovsky.at/termin/grundwissen-5-6-79/
LOCATION:Fahrschule Dubovsky Schönaugasse 19 8010 Graz Lehrsaal 1
CATEGORIES:Dubovsky Center
END:VEVENT
BEGIN:VEVENT
DTSTART;TZID=Europe/Vienna:20260618T162000
DTEND;TZID=Europe/Vienna:20260618T202000
DTSTAMP:20260423T181824
CREATED:20251217T231647Z
LAST-MODIFIED:20260416T181721Z
UID:10006678-1781799600-1781814000@fahrschule-dubovsky.at
SUMMARY:Grundwissen 7/8
DESCRIPTION:
URL:https://fahrschule-dubovsky.at/termin/grundwissen-7-8-77/
LOCATION:Fahrschule Dubovsky Schönaugasse 19 8010 Graz Lehrsaal 1
CATEGORIES:Dubovsky Center
END:VEVENT
BEGIN:VEVENT
DTSTART;TZID=Europe/Vienna:20260622T162000
DTEND;TZID=Europe/Vienna:20260622T202000
DTSTAMP:20260423T181824
CREATED:20251221T234651Z
LAST-MODIFIED:20260416T181721Z
UID:10006682-1782145200-1782159600@fahrschule-dubovsky.at
SUMMARY:Grundwissen 9/10
DESCRIPTION:
URL:https://fahrschule-dubovsky.at/termin/grundwissen-9-10-82/
LOCATION:Fahrschule Dubovsky Schönaugasse 19 8010 Graz Lehrsaal 1
CATEGORIES:Dubovsky Center
END:VEVENT
BEGIN:VEVENT
DTSTART;TZID=Europe/Vienna:20260623T133000
DTEND;TZID=Europe/Vienna:20260623T150000
DTSTAMP:20260423T181824
CREATED:20251222T233201Z
LAST-MODIFIED:20260416T181722Z
UID:10006683-1782221400-1782226800@fahrschule-dubovsky.at
SUMMARY:Theorieprüfung
DESCRIPTION:
URL:https://fahrschule-dubovsky.at/termin/theoriepruefung-52/
LOCATION:Fahrschule Dubovsky Schönaugasse 19 8010 Graz Lehrsaal 1
CATEGORIES:Dubovsky Center
END:VEVENT
BEGIN:VEVENT
DTSTART;TZID=Europe/Vienna:20260623T162000
DTEND;TZID=Europe/Vienna:20260623T200000
DTSTAMP:20260423T181824
CREATED:20251222T233201Z
LAST-MODIFIED:20260416T181722Z
UID:10006684-1782231600-1782244800@fahrschule-dubovsky.at
SUMMARY:B-Kurs 1/2
DESCRIPTION:
URL:https://fahrschule-dubovsky.at/termin/b-kurs-1-2-83/
LOCATION:Fahrschule Dubovsky Schönaugasse 19 8010 Graz Lehrsaal 1
CATEGORIES:Dubovsky Center
END:VEVENT
BEGIN:VEVENT
DTSTART;TZID=Europe/Vienna:20260624T162000
DTEND;TZID=Europe/Vienna:20260624T202000
DTSTAMP:20260423T181824
CREATED:20251223T231640Z
LAST-MODIFIED:20260416T181722Z
UID:10006686-1782318000-1782332400@fahrschule-dubovsky.at
SUMMARY:B-Kurs 3/4
DESCRIPTION:
URL:https://fahrschule-dubovsky.at/termin/b-kurs-3-4-81/
LOCATION:Fahrschule Dubovsky Schönaugasse 19 8010 Graz Lehrsaal 1
CATEGORIES:Dubovsky Center
END:VEVENT
BEGIN:VEVENT
DTSTART;TZID=Europe/Vienna:20260625T162000
DTEND;TZID=Europe/Vienna:20260625T202000
DTSTAMP:20260423T181824
CREATED:20251224T233146Z
LAST-MODIFIED:20260416T181722Z
UID:10006688-1782404400-1782418800@fahrschule-dubovsky.at
SUMMARY:B-Kurs 5/6
DESCRIPTION:
URL:https://fahrschule-dubovsky.at/termin/b-kurs-5-6-76/
LOCATION:Fahrschule Dubovsky Schönaugasse 19 8010 Graz Lehrsaal 1
CATEGORIES:Dubovsky Center
END:VEVENT
BEGIN:VEVENT
DTSTART;TZID=Europe/Vienna:20260626T133000
DTEND;TZID=Europe/Vienna:20260626T193000
DTSTAMP:20260423T181824
CREATED:20251225T234748Z
LAST-MODIFIED:20260416T181722Z
UID:10006690-1782480600-1782502200@fahrschule-dubovsky.at
SUMMARY:Mopedkurs
DESCRIPTION:
URL:https://fahrschule-dubovsky.at/termin/mopedkurs-27/
LOCATION:Fahrschule Dubovsky Schönaugasse 19 8010 Graz Lehrsaal 1
CATEGORIES:Dubovsky Center
END:VEVENT
BEGIN:VEVENT
DTSTART;TZID=Europe/Vienna:20260629T162000
DTEND;TZID=Europe/Vienna:20260629T200000
DTSTAMP:20260423T181824
CREATED:20251228T233155Z
LAST-MODIFIED:20260416T181722Z
UID:10006692-1782750000-1782763200@fahrschule-dubovsky.at
SUMMARY:Grundwissen 1/2
DESCRIPTION:
URL:https://fahrschule-dubovsky.at/termin/grundwissen-1-2-65/
LOCATION:Fahrschule Dubovsky Schönaugasse 19 8010 Graz Lehrsaal 1
CATEGORIES:Dubovsky Center
END:VEVENT
BEGIN:VEVENT
DTSTART;TZID=Europe/Vienna:20260630T162000
DTEND;TZID=Europe/Vienna:20260630T200000
DTSTAMP:20260423T181824
CREATED:20251229T231647Z
LAST-MODIFIED:20260416T181722Z
UID:10006696-1782836400-1782849600@fahrschule-dubovsky.at
SUMMARY:Grundwissen 3/4
DESCRIPTION:
URL:https://fahrschule-dubovsky.at/termin/grundwissen-3-4-68/
LOCATION:Fahrschule Dubovsky Schönaugasse 19 8010 Graz Lehrsaal 1
CATEGORIES:Dubovsky Center
END:VEVENT
BEGIN:VEVENT
DTSTART;TZID=Europe/Vienna:20260701T162000
DTEND;TZID=Europe/Vienna:20260701T200000
DTSTAMP:20260423T181824
CREATED:20251231T231652Z
LAST-MODIFIED:20260416T181722Z
UID:10006701-1782922800-1782936000@fahrschule-dubovsky.at
SUMMARY:Grundwissen 5/6
DESCRIPTION:
URL:https://fahrschule-dubovsky.at/termin/grundwissen-5-6-81/
LOCATION:Fahrschule Dubovsky Schönaugasse 19 8010 Graz Lehrsaal 1
CATEGORIES:Dubovsky Center
END:VEVENT
BEGIN:VEVENT
DTSTART;TZID=Europe/Vienna:20260702T162000
DTEND;TZID=Europe/Vienna:20260702T202000
DTSTAMP:20260423T181824
CREATED:20260101T231650Z
LAST-MODIFIED:20260416T181722Z
UID:10006702-1783009200-1783023600@fahrschule-dubovsky.at
SUMMARY:Grundwissen 7/8
DESCRIPTION:
URL:https://fahrschule-dubovsky.at/termin/grundwissen-7-8-78/
LOCATION:Fahrschule Dubovsky Schönaugasse 19 8010 Graz Lehrsaal 1
CATEGORIES:Dubovsky Center
END:VEVENT
BEGIN:VEVENT
DTSTART;TZID=Europe/Vienna:20260703T160000
DTEND;TZID=Europe/Vienna:20260703T170000
DTSTAMP:20260423T181824
CREATED:20260102T231714Z
LAST-MODIFIED:20260416T181723Z
UID:10006704-1783094400-1783098000@fahrschule-dubovsky.at
SUMMARY:Theoretische Einweisung
DESCRIPTION:
URL:https://fahrschule-dubovsky.at/termin/theoretische-einweisung-19/
LOCATION:Fahrschule Dubovsky Schönaugasse 19 8010 Graz Lehrsaal 1
CATEGORIES:Dubovsky Center
END:VEVENT
BEGIN:VEVENT
DTSTART;TZID=Europe/Vienna:20260703T180000
DTEND;TZID=Europe/Vienna:20260703T220000
DTSTAMP:20260423T181824
CREATED:20260102T231714Z
LAST-MODIFIED:20260416T181723Z
UID:10006705-1783101600-1783116000@fahrschule-dubovsky.at
SUMMARY:Erste Hilfe Kurs
DESCRIPTION:
URL:https://fahrschule-dubovsky.at/termin/erste-hilfe-kurs-26/
LOCATION:Fahrschule Dubovsky Schönaugasse 19 8010 Graz Lehrsaal 1
CATEGORIES:Dubovsky Center
END:VEVENT
BEGIN:VEVENT
DTSTART;TZID=Europe/Vienna:20260706T162000
DTEND;TZID=Europe/Vienna:20260706T202000
DTSTAMP:20260423T181824
CREATED:20260105T231857Z
LAST-MODIFIED:20260416T181723Z
UID:10006706-1783354800-1783369200@fahrschule-dubovsky.at
SUMMARY:Grundwissen 9/10
DESCRIPTION:
URL:https://fahrschule-dubovsky.at/termin/grundwissen-9-10-84/
LOCATION:Fahrschule Dubovsky Schönaugasse 19 8010 Graz Lehrsaal 1
CATEGORIES:Dubovsky Center
END:VEVENT
BEGIN:VEVENT
DTSTART;TZID=Europe/Vienna:20260707T133000
DTEND;TZID=Europe/Vienna:20260707T150000
DTSTAMP:20260423T181824
CREATED:20260107T000230Z
LAST-MODIFIED:20260416T181723Z
UID:10006707-1783431000-1783436400@fahrschule-dubovsky.at
SUMMARY:Theorieprüfung
DESCRIPTION:
URL:https://fahrschule-dubovsky.at/termin/theoriepruefung-54/
LOCATION:Fahrschule Dubovsky Schönaugasse 19 8010 Graz Lehrsaal 1
CATEGORIES:Dubovsky Center
END:VEVENT
BEGIN:VEVENT
DTSTART;TZID=Europe/Vienna:20260707T162000
DTEND;TZID=Europe/Vienna:20260707T200000
DTSTAMP:20260423T181824
CREATED:20260107T000230Z
LAST-MODIFIED:20260416T181723Z
UID:10006708-1783441200-1783454400@fahrschule-dubovsky.at
SUMMARY:B-Kurs 1/2
DESCRIPTION:
URL:https://fahrschule-dubovsky.at/termin/b-kurs-1-2-85/
LOCATION:Fahrschule Dubovsky Schönaugasse 19 8010 Graz Lehrsaal 1
CATEGORIES:Dubovsky Center
END:VEVENT
BEGIN:VEVENT
DTSTART;TZID=Europe/Vienna:20260708T162000
DTEND;TZID=Europe/Vienna:20260708T202000
DTSTAMP:20260423T181824
CREATED:20260107T230232Z
LAST-MODIFIED:20260416T181723Z
UID:10006709-1783527600-1783542000@fahrschule-dubovsky.at
SUMMARY:B-Kurs 3/4
DESCRIPTION:
URL:https://fahrschule-dubovsky.at/termin/b-kurs-3-4-83/
LOCATION:Fahrschule Dubovsky Schönaugasse 19 8010 Graz Lehrsaal 1
CATEGORIES:Dubovsky Center
END:VEVENT
BEGIN:VEVENT
DTSTART;TZID=Europe/Vienna:20260709T162000
DTEND;TZID=Europe/Vienna:20260709T202000
DTSTAMP:20260423T181824
CREATED:20260109T000436Z
LAST-MODIFIED:20260416T181723Z
UID:10006710-1783614000-1783628400@fahrschule-dubovsky.at
SUMMARY:B-Kurs 5/6
DESCRIPTION:
URL:https://fahrschule-dubovsky.at/termin/b-kurs-5-6-78/
LOCATION:Fahrschule Dubovsky Schönaugasse 19 8010 Graz Lehrsaal 1
CATEGORIES:Dubovsky Center
END:VEVENT
BEGIN:VEVENT
DTSTART;TZID=Europe/Vienna:20260713T093000
DTEND;TZID=Europe/Vienna:20260713T133000
DTSTAMP:20260423T181824
CREATED:20260112T230210Z
LAST-MODIFIED:20260416T181724Z
UID:10006714-1783935000-1783949400@fahrschule-dubovsky.at
SUMMARY:Grundwissen 1/2
DESCRIPTION:
URL:https://fahrschule-dubovsky.at/termin/grundwissen-1-2-66/
LOCATION:Fahrschule Dubovsky Schönaugasse 19 8010 Graz Lehrsaal 1
CATEGORIES:Dubovsky Center
END:VEVENT
BEGIN:VEVENT
DTSTART;TZID=Europe/Vienna:20260713T162000
DTEND;TZID=Europe/Vienna:20260713T200000
DTSTAMP:20260423T181824
CREATED:20260112T230211Z
LAST-MODIFIED:20260416T181723Z
UID:10006715-1783959600-1783972800@fahrschule-dubovsky.at
SUMMARY:Grundwissen 1/2
DESCRIPTION:
URL:https://fahrschule-dubovsky.at/termin/grundwissen-1-2-67/
LOCATION:Fahrschule Dubovsky Schönaugasse 19 8010 Graz Lehrsaal 1
CATEGORIES:Dubovsky Center
END:VEVENT
BEGIN:VEVENT
DTSTART;TZID=Europe/Vienna:20260714T093000
DTEND;TZID=Europe/Vienna:20260714T133000
DTSTAMP:20260423T181824
CREATED:20260113T233232Z
LAST-MODIFIED:20260416T181724Z
UID:10006719-1784021400-1784035800@fahrschule-dubovsky.at
SUMMARY:Grundwissen 3/4
DESCRIPTION:
URL:https://fahrschule-dubovsky.at/termin/grundwissen-3-4-69/
LOCATION:Fahrschule Dubovsky Schönaugasse 19 8010 Graz Lehrsaal 1
CATEGORIES:Dubovsky Center
END:VEVENT
BEGIN:VEVENT
DTSTART;TZID=Europe/Vienna:20260714T162000
DTEND;TZID=Europe/Vienna:20260714T200000
DTSTAMP:20260423T181824
CREATED:20260113T233232Z
LAST-MODIFIED:20260416T181724Z
UID:10006720-1784046000-1784059200@fahrschule-dubovsky.at
SUMMARY:Grundwissen 3/4
DESCRIPTION:
URL:https://fahrschule-dubovsky.at/termin/grundwissen-3-4-70/
LOCATION:Fahrschule Dubovsky Schönaugasse 19 8010 Graz Lehrsaal 1
CATEGORIES:Dubovsky Center
END:VEVENT
BEGIN:VEVENT
DTSTART;TZID=Europe/Vienna:20260715T093000
DTEND;TZID=Europe/Vienna:20260715T133000
DTSTAMP:20260423T181824
CREATED:20260114T231748Z
LAST-MODIFIED:20260416T181724Z
UID:10006722-1784107800-1784122200@fahrschule-dubovsky.at
SUMMARY:Grundwissen 5/6
DESCRIPTION:
URL:https://fahrschule-dubovsky.at/termin/grundwissen-5-6-82/
LOCATION:Fahrschule Dubovsky Schönaugasse 19 8010 Graz Lehrsaal 1
CATEGORIES:Dubovsky Center
END:VEVENT
BEGIN:VEVENT
DTSTART;TZID=Europe/Vienna:20260715T162000
DTEND;TZID=Europe/Vienna:20260715T200000
DTSTAMP:20260423T181824
CREATED:20260114T231749Z
LAST-MODIFIED:20260416T181724Z
UID:10006723-1784132400-1784145600@fahrschule-dubovsky.at
SUMMARY:Grundwissen 5/6
DESCRIPTION:
URL:https://fahrschule-dubovsky.at/termin/grundwissen-5-6-83/
LOCATION:Fahrschule Dubovsky Schönaugasse 19 8010 Graz Lehrsaal 1
CATEGORIES:Dubovsky Center
END:VEVENT
BEGIN:VEVENT
DTSTART;TZID=Europe/Vienna:20260716T093000
DTEND;TZID=Europe/Vienna:20260716T133000
DTSTAMP:20260423T181824
CREATED:20260115T233151Z
LAST-MODIFIED:20260416T181724Z
UID:10006724-1784194200-1784208600@fahrschule-dubovsky.at
SUMMARY:Grundwissen 7/8
DESCRIPTION:
URL:https://fahrschule-dubovsky.at/termin/grundwissen-7-8-79/
LOCATION:Fahrschule Dubovsky Schönaugasse 19 8010 Graz Lehrsaal 1
CATEGORIES:Dubovsky Center
END:VEVENT
BEGIN:VEVENT
DTSTART;TZID=Europe/Vienna:20260716T162000
DTEND;TZID=Europe/Vienna:20260716T202000
DTSTAMP:20260423T181824
CREATED:20260115T233151Z
LAST-MODIFIED:20260416T181724Z
UID:10006725-1784218800-1784233200@fahrschule-dubovsky.at
SUMMARY:Grundwissen 7/8
DESCRIPTION:
URL:https://fahrschule-dubovsky.at/termin/grundwissen-7-8-80/
LOCATION:Fahrschule Dubovsky Schönaugasse 19 8010 Graz Lehrsaal 1
CATEGORIES:Dubovsky Center
END:VEVENT
END:VCALENDAR