BEGIN:VCALENDAR
VERSION:2.0
PRODID:-//Fahrschule Dubovsky - ECPv6.15.20//NONSGML v1.0//EN
CALSCALE:GREGORIAN
METHOD:PUBLISH
X-WR-CALNAME:Fahrschule Dubovsky
X-ORIGINAL-URL:https://fahrschule-dubovsky.at
X-WR-CALDESC:Veranstaltungen für Fahrschule Dubovsky
REFRESH-INTERVAL;VALUE=DURATION:PT1H
X-Robots-Tag:noindex
X-PUBLISHED-TTL:PT1H
BEGIN:VTIMEZONE
TZID:Europe/Vienna
BEGIN:DAYLIGHT
TZOFFSETFROM:+0100
TZOFFSETTO:+0200
TZNAME:CEST
DTSTART:20250330T010000
END:DAYLIGHT
BEGIN:STANDARD
TZOFFSETFROM:+0200
TZOFFSETTO:+0100
TZNAME:CET
DTSTART:20251026T010000
END:STANDARD
BEGIN:DAYLIGHT
TZOFFSETFROM:+0100
TZOFFSETTO:+0200
TZNAME:CEST
DTSTART:20260329T010000
END:DAYLIGHT
BEGIN:STANDARD
TZOFFSETFROM:+0200
TZOFFSETTO:+0100
TZNAME:CET
DTSTART:20261025T010000
END:STANDARD
BEGIN:DAYLIGHT
TZOFFSETFROM:+0100
TZOFFSETTO:+0200
TZNAME:CEST
DTSTART:20270328T010000
END:DAYLIGHT
BEGIN:STANDARD
TZOFFSETFROM:+0200
TZOFFSETTO:+0100
TZNAME:CET
DTSTART:20271031T010000
END:STANDARD
END:VTIMEZONE
BEGIN:VEVENT
DTSTART;TZID=Europe/Vienna:20261006T162000
DTEND;TZID=Europe/Vienna:20261006T200000
DTSTAMP:20260424T073218
CREATED:20260405T220219Z
LAST-MODIFIED:20260424T051629Z
UID:10006857-1791303600-1791316800@fahrschule-dubovsky.at
SUMMARY:Grundwissen 3/4
DESCRIPTION:
URL:https://fahrschule-dubovsky.at/termin/grundwissen-3-4-79/
LOCATION:Fahrschule Dubovsky Schönaugasse 19 8010 Graz Lehrsaal 1
CATEGORIES:Dubovsky Center
END:VEVENT
BEGIN:VEVENT
DTSTART;TZID=Europe/Vienna:20261007T162000
DTEND;TZID=Europe/Vienna:20261007T200000
DTSTAMP:20260424T073218
CREATED:20260406T224718Z
LAST-MODIFIED:20260424T051629Z
UID:10006858-1791390000-1791403200@fahrschule-dubovsky.at
SUMMARY:Grundwissen 5/6
DESCRIPTION:
URL:https://fahrschule-dubovsky.at/termin/grundwissen-5-6-93/
LOCATION:Fahrschule Dubovsky Schönaugasse 19 8010 Graz Lehrsaal 1
CATEGORIES:Dubovsky Center
END:VEVENT
BEGIN:VEVENT
DTSTART;TZID=Europe/Vienna:20261008T162000
DTEND;TZID=Europe/Vienna:20261008T202000
DTSTAMP:20260424T073218
CREATED:20260412T224623Z
LAST-MODIFIED:20260424T051630Z
UID:10006859-1791476400-1791490800@fahrschule-dubovsky.at
SUMMARY:Grundwissen 7/8
DESCRIPTION:
URL:https://fahrschule-dubovsky.at/termin/grundwissen-7-8-91/
LOCATION:Fahrschule Dubovsky Schönaugasse 19 8010 Graz Lehrsaal 1
CATEGORIES:Dubovsky Center
END:VEVENT
BEGIN:VEVENT
DTSTART;TZID=Europe/Vienna:20261012T162000
DTEND;TZID=Europe/Vienna:20261012T200000
DTSTAMP:20260424T073218
CREATED:20260412T224624Z
LAST-MODIFIED:20260424T051630Z
UID:10006861-1791822000-1791835200@fahrschule-dubovsky.at
SUMMARY:Grundwissen 9/10
DESCRIPTION:
URL:https://fahrschule-dubovsky.at/termin/grundwissen-9-10-97/
LOCATION:Fahrschule Dubovsky Schönaugasse 19 8010 Graz Lehrsaal 1
CATEGORIES:Dubovsky Center
END:VEVENT
BEGIN:VEVENT
DTSTART;TZID=Europe/Vienna:20261013T133000
DTEND;TZID=Europe/Vienna:20261013T150000
DTSTAMP:20260424T073218
CREATED:20260412T224624Z
LAST-MODIFIED:20260424T051630Z
UID:10006862-1791898200-1791903600@fahrschule-dubovsky.at
SUMMARY:Theorieprüfung
DESCRIPTION:
URL:https://fahrschule-dubovsky.at/termin/theoriepruefung-62/
LOCATION:Fahrschule Dubovsky Schönaugasse 19 8010 Graz Lehrsaal 1
CATEGORIES:Dubovsky Center
END:VEVENT
BEGIN:VEVENT
DTSTART;TZID=Europe/Vienna:20261013T162000
DTEND;TZID=Europe/Vienna:20261013T202000
DTSTAMP:20260424T073218
CREATED:20260412T224624Z
LAST-MODIFIED:20260424T051630Z
UID:10006863-1791908400-1791922800@fahrschule-dubovsky.at
SUMMARY:B-Kurs 1/2
DESCRIPTION:
URL:https://fahrschule-dubovsky.at/termin/b-kurs-1-2-96/
LOCATION:Fahrschule Dubovsky Schönaugasse 19 8010 Graz Lehrsaal 1
CATEGORIES:Dubovsky Center
END:VEVENT
BEGIN:VEVENT
DTSTART;TZID=Europe/Vienna:20261014T162000
DTEND;TZID=Europe/Vienna:20261014T202000
DTSTAMP:20260424T073218
CREATED:20260414T191631Z
LAST-MODIFIED:20260424T051630Z
UID:10006864-1791994800-1792009200@fahrschule-dubovsky.at
SUMMARY:B-Kurs 3/4
DESCRIPTION:
URL:https://fahrschule-dubovsky.at/termin/b-kurs-3-4-94/
LOCATION:Fahrschule Dubovsky Schönaugasse 19 8010 Graz Lehrsaal 1
CATEGORIES:Dubovsky Center
END:VEVENT
BEGIN:VEVENT
DTSTART;TZID=Europe/Vienna:20261015T162000
DTEND;TZID=Europe/Vienna:20261015T202000
DTSTAMP:20260424T073218
CREATED:20260414T223147Z
LAST-MODIFIED:20260424T051630Z
UID:10006865-1792081200-1792095600@fahrschule-dubovsky.at
SUMMARY:B-Kurs 5/6
DESCRIPTION:
URL:https://fahrschule-dubovsky.at/termin/b-kurs-5-6-89/
LOCATION:Fahrschule Dubovsky Schönaugasse 19 8010 Graz Lehrsaal 1
CATEGORIES:Dubovsky Center
END:VEVENT
BEGIN:VEVENT
DTSTART;TZID=Europe/Vienna:20261016T133000
DTEND;TZID=Europe/Vienna:20261016T193000
DTSTAMP:20260424T073218
CREATED:20260415T224633Z
LAST-MODIFIED:20260424T051630Z
UID:10006866-1792157400-1792179000@fahrschule-dubovsky.at
SUMMARY:Mopedkurs
DESCRIPTION:
URL:https://fahrschule-dubovsky.at/termin/mopedkurs-36/
LOCATION:Fahrschule Dubovsky Schönaugasse 19 8010 Graz Lehrsaal 1
CATEGORIES:Dubovsky Center
END:VEVENT
BEGIN:VEVENT
DTSTART;TZID=Europe/Vienna:20261019T162000
DTEND;TZID=Europe/Vienna:20261019T200000
DTSTAMP:20260424T073218
CREATED:20260424T041628Z
LAST-MODIFIED:20260424T051630Z
UID:10006867-1792426800-1792440000@fahrschule-dubovsky.at
SUMMARY:Grundwissen 1/2
DESCRIPTION:
URL:https://fahrschule-dubovsky.at/termin/grundwissen-1-2-78/
LOCATION:Fahrschule Dubovsky Schönaugasse 19 8010 Graz Lehrsaal 1
CATEGORIES:Dubovsky Center
END:VEVENT
BEGIN:VEVENT
DTSTART;TZID=Europe/Vienna:20261020T162000
DTEND;TZID=Europe/Vienna:20261020T200000
DTSTAMP:20260424T073218
CREATED:20260424T041629Z
LAST-MODIFIED:20260424T051631Z
UID:10006869-1792513200-1792526400@fahrschule-dubovsky.at
SUMMARY:Grundwissen 3/4
DESCRIPTION:
URL:https://fahrschule-dubovsky.at/termin/grundwissen-3-4-80/
LOCATION:Fahrschule Dubovsky Schönaugasse 19 8010 Graz Lehrsaal 1
CATEGORIES:Dubovsky Center
END:VEVENT
BEGIN:VEVENT
DTSTART;TZID=Europe/Vienna:20261021T162000
DTEND;TZID=Europe/Vienna:20261021T200000
DTSTAMP:20260424T073218
CREATED:20260424T041629Z
LAST-MODIFIED:20260424T051631Z
UID:10006871-1792599600-1792612800@fahrschule-dubovsky.at
SUMMARY:Grundwissen 5/6
DESCRIPTION:
URL:https://fahrschule-dubovsky.at/termin/grundwissen-5-6-94/
LOCATION:Fahrschule Dubovsky Schönaugasse 19 8010 Graz Lehrsaal 1
CATEGORIES:Dubovsky Center
END:VEVENT
BEGIN:VEVENT
DTSTART;TZID=Europe/Vienna:20261022T162000
DTEND;TZID=Europe/Vienna:20261022T202000
DTSTAMP:20260424T073218
CREATED:20260424T041629Z
LAST-MODIFIED:20260424T051631Z
UID:10006872-1792686000-1792700400@fahrschule-dubovsky.at
SUMMARY:Grundwissen 7/8
DESCRIPTION:
URL:https://fahrschule-dubovsky.at/termin/grundwissen-7-8-92/
LOCATION:Fahrschule Dubovsky Schönaugasse 19 8010 Graz Lehrsaal 1
CATEGORIES:Dubovsky Center
END:VEVENT
BEGIN:VEVENT
DTSTART;TZID=Europe/Vienna:20261023T180000
DTEND;TZID=Europe/Vienna:20261023T220000
DTSTAMP:20260424T073218
CREATED:20260424T041629Z
LAST-MODIFIED:20260424T051631Z
UID:10006875-1792778400-1792792800@fahrschule-dubovsky.at
SUMMARY:Erste Hilfe Kurs
DESCRIPTION:
URL:https://fahrschule-dubovsky.at/termin/erste-hilfe-kurs-30/
LOCATION:Fahrschule Dubovsky Schönaugasse 19 8010 Graz Lehrsaal 1
CATEGORIES:Dubovsky Center
END:VEVENT
END:VCALENDAR