BEGIN:VCALENDAR
VERSION:2.0
PRODID:-//Fahrschule Dubovsky - ECPv6.15.20//NONSGML v1.0//EN
CALSCALE:GREGORIAN
METHOD:PUBLISH
X-WR-CALNAME:Fahrschule Dubovsky
X-ORIGINAL-URL:https://fahrschule-dubovsky.at
X-WR-CALDESC:Veranstaltungen für Fahrschule Dubovsky
REFRESH-INTERVAL;VALUE=DURATION:PT1H
X-Robots-Tag:noindex
X-PUBLISHED-TTL:PT1H
BEGIN:VTIMEZONE
TZID:Europe/Vienna
BEGIN:DAYLIGHT
TZOFFSETFROM:+0100
TZOFFSETTO:+0200
TZNAME:CEST
DTSTART:20250330T010000
END:DAYLIGHT
BEGIN:STANDARD
TZOFFSETFROM:+0200
TZOFFSETTO:+0100
TZNAME:CET
DTSTART:20251026T010000
END:STANDARD
BEGIN:DAYLIGHT
TZOFFSETFROM:+0100
TZOFFSETTO:+0200
TZNAME:CEST
DTSTART:20260329T010000
END:DAYLIGHT
BEGIN:STANDARD
TZOFFSETFROM:+0200
TZOFFSETTO:+0100
TZNAME:CET
DTSTART:20261025T010000
END:STANDARD
BEGIN:DAYLIGHT
TZOFFSETFROM:+0100
TZOFFSETTO:+0200
TZNAME:CEST
DTSTART:20270328T010000
END:DAYLIGHT
BEGIN:STANDARD
TZOFFSETFROM:+0200
TZOFFSETTO:+0100
TZNAME:CET
DTSTART:20271031T010000
END:STANDARD
END:VTIMEZONE
BEGIN:VEVENT
DTSTART;TZID=Europe/Vienna:20260831T093000
DTEND;TZID=Europe/Vienna:20260831T133000
DTSTAMP:20260424T040941
CREATED:20260228T233140Z
LAST-MODIFIED:20260416T181732Z
UID:10006806-1788168600-1788183000@fahrschule-dubovsky.at
SUMMARY:Grundwissen 9/10
DESCRIPTION:
URL:https://fahrschule-dubovsky.at/termin/grundwissen-9-10-92/
LOCATION:Fahrschule Dubovsky Schönaugasse 19 8010 Graz Lehrsaal 1
CATEGORIES:Dubovsky Center
END:VEVENT
BEGIN:VEVENT
DTSTART;TZID=Europe/Vienna:20260831T162000
DTEND;TZID=Europe/Vienna:20260831T200000
DTSTAMP:20260424T040941
CREATED:20260228T233140Z
LAST-MODIFIED:20260416T181732Z
UID:10006807-1788193200-1788206400@fahrschule-dubovsky.at
SUMMARY:Grundwissen 9/10
DESCRIPTION:
URL:https://fahrschule-dubovsky.at/termin/grundwissen-9-10-93/
LOCATION:Fahrschule Dubovsky Schönaugasse 19 8010 Graz Lehrsaal 1
CATEGORIES:Dubovsky Center
END:VEVENT
BEGIN:VEVENT
DTSTART;TZID=Europe/Vienna:20260901T093000
DTEND;TZID=Europe/Vienna:20260901T133000
DTSTAMP:20260424T040941
CREATED:20260228T233140Z
LAST-MODIFIED:20260416T181733Z
UID:10006808-1788255000-1788269400@fahrschule-dubovsky.at
SUMMARY:B-Kurs 1/2
DESCRIPTION:
URL:https://fahrschule-dubovsky.at/termin/b-kurs-1-2-92/
LOCATION:Fahrschule Dubovsky Schönaugasse 19 8010 Graz Lehrsaal 1
CATEGORIES:Dubovsky Center
END:VEVENT
BEGIN:VEVENT
DTSTART;TZID=Europe/Vienna:20260901T133000
DTEND;TZID=Europe/Vienna:20260901T150000
DTSTAMP:20260424T040941
CREATED:20260228T233141Z
LAST-MODIFIED:20260416T181733Z
UID:10006809-1788269400-1788274800@fahrschule-dubovsky.at
SUMMARY:Theorieprüfung
DESCRIPTION:
URL:https://fahrschule-dubovsky.at/termin/theoriepruefung-59/
LOCATION:Fahrschule Dubovsky Schönaugasse 19 8010 Graz Lehrsaal 1
CATEGORIES:Dubovsky Center
END:VEVENT
BEGIN:VEVENT
DTSTART;TZID=Europe/Vienna:20260901T162000
DTEND;TZID=Europe/Vienna:20260901T202000
DTSTAMP:20260424T040941
CREATED:20260228T233141Z
LAST-MODIFIED:20260416T181733Z
UID:10006810-1788279600-1788294000@fahrschule-dubovsky.at
SUMMARY:B-Kurs 1/2
DESCRIPTION:
URL:https://fahrschule-dubovsky.at/termin/b-kurs-1-2-93/
LOCATION:Fahrschule Dubovsky Schönaugasse 19 8010 Graz Lehrsaal 1
CATEGORIES:Dubovsky Center
END:VEVENT
BEGIN:VEVENT
DTSTART;TZID=Europe/Vienna:20260902T093000
DTEND;TZID=Europe/Vienna:20260902T133000
DTSTAMP:20260424T040941
CREATED:20260301T231707Z
LAST-MODIFIED:20260416T181733Z
UID:10006811-1788341400-1788355800@fahrschule-dubovsky.at
SUMMARY:B-Kurs 3/4
DESCRIPTION:
URL:https://fahrschule-dubovsky.at/termin/b-kurs-3-4-90/
LOCATION:Fahrschule Dubovsky Schönaugasse 19 8010 Graz Lehrsaal 1
CATEGORIES:Dubovsky Center
END:VEVENT
BEGIN:VEVENT
DTSTART;TZID=Europe/Vienna:20260902T162000
DTEND;TZID=Europe/Vienna:20260902T202000
DTSTAMP:20260424T040941
CREATED:20260301T231707Z
LAST-MODIFIED:20260416T181733Z
UID:10006812-1788366000-1788380400@fahrschule-dubovsky.at
SUMMARY:B-Kurs 3/4
DESCRIPTION:
URL:https://fahrschule-dubovsky.at/termin/b-kurs-3-4-91/
LOCATION:Fahrschule Dubovsky Schönaugasse 19 8010 Graz Lehrsaal 1
CATEGORIES:Dubovsky Center
END:VEVENT
BEGIN:VEVENT
DTSTART;TZID=Europe/Vienna:20260903T093000
DTEND;TZID=Europe/Vienna:20260903T133000
DTSTAMP:20260424T040941
CREATED:20260302T231830Z
LAST-MODIFIED:20260416T181733Z
UID:10006813-1788427800-1788442200@fahrschule-dubovsky.at
SUMMARY:B-Kurs 5/6
DESCRIPTION:
URL:https://fahrschule-dubovsky.at/termin/b-kurs-5-6-85/
LOCATION:Fahrschule Dubovsky Schönaugasse 19 8010 Graz Lehrsaal 1
CATEGORIES:Dubovsky Center
END:VEVENT
BEGIN:VEVENT
DTSTART;TZID=Europe/Vienna:20260903T162000
DTEND;TZID=Europe/Vienna:20260903T202000
DTSTAMP:20260424T040941
CREATED:20260302T231830Z
LAST-MODIFIED:20260416T181733Z
UID:10006814-1788452400-1788466800@fahrschule-dubovsky.at
SUMMARY:B-Kurs 5/6
DESCRIPTION:
URL:https://fahrschule-dubovsky.at/termin/b-kurs-5-6-86/
LOCATION:Fahrschule Dubovsky Schönaugasse 19 8010 Graz Lehrsaal 1
CATEGORIES:Dubovsky Center
END:VEVENT
BEGIN:VEVENT
DTSTART;TZID=Europe/Vienna:20260907T093000
DTEND;TZID=Europe/Vienna:20260907T133000
DTSTAMP:20260424T040941
CREATED:20260306T230235Z
LAST-MODIFIED:20260416T181733Z
UID:10006818-1788773400-1788787800@fahrschule-dubovsky.at
SUMMARY:Grundwissen 1/2
DESCRIPTION:
URL:https://fahrschule-dubovsky.at/termin/grundwissen-1-2-74/
LOCATION:Fahrschule Dubovsky Schönaugasse 19 8010 Graz Lehrsaal 1
CATEGORIES:Dubovsky Center
END:VEVENT
BEGIN:VEVENT
DTSTART;TZID=Europe/Vienna:20260907T162000
DTEND;TZID=Europe/Vienna:20260907T200000
DTSTAMP:20260424T040941
CREATED:20260306T230235Z
LAST-MODIFIED:20260416T181734Z
UID:10006819-1788798000-1788811200@fahrschule-dubovsky.at
SUMMARY:Grundwissen 1/2
DESCRIPTION:
URL:https://fahrschule-dubovsky.at/termin/grundwissen-1-2-75/
LOCATION:Fahrschule Dubovsky Schönaugasse 19 8010 Graz Lehrsaal 1
CATEGORIES:Dubovsky Center
END:VEVENT
BEGIN:VEVENT
DTSTART;TZID=Europe/Vienna:20260908T093000
DTEND;TZID=Europe/Vienna:20260908T133000
DTSTAMP:20260424T040941
CREATED:20260307T233139Z
LAST-MODIFIED:20260416T181734Z
UID:10006821-1788859800-1788874200@fahrschule-dubovsky.at
SUMMARY:Grundwissen 3/4
DESCRIPTION:
URL:https://fahrschule-dubovsky.at/termin/grundwissen-3-4-77/
LOCATION:Fahrschule Dubovsky Schönaugasse 19 8010 Graz Lehrsaal 1
CATEGORIES:Dubovsky Center
END:VEVENT
BEGIN:VEVENT
DTSTART;TZID=Europe/Vienna:20260909T093000
DTEND;TZID=Europe/Vienna:20260909T133000
DTSTAMP:20260424T040941
CREATED:20260308T234642Z
LAST-MODIFIED:20260416T181734Z
UID:10006823-1788946200-1788960600@fahrschule-dubovsky.at
SUMMARY:Grundwissen 5/6
DESCRIPTION:
URL:https://fahrschule-dubovsky.at/termin/grundwissen-5-6-90/
LOCATION:Fahrschule Dubovsky Schönaugasse 19 8010 Graz Lehrsaal 1
CATEGORIES:Dubovsky Center
END:VEVENT
BEGIN:VEVENT
DTSTART;TZID=Europe/Vienna:20260909T162000
DTEND;TZID=Europe/Vienna:20260909T200000
DTSTAMP:20260424T040941
CREATED:20260308T234642Z
LAST-MODIFIED:20260416T181734Z
UID:10006824-1788970800-1788984000@fahrschule-dubovsky.at
SUMMARY:Grundwissen 5/6
DESCRIPTION:
URL:https://fahrschule-dubovsky.at/termin/grundwissen-5-6-91/
LOCATION:Fahrschule Dubovsky Schönaugasse 19 8010 Graz Lehrsaal 1
CATEGORIES:Dubovsky Center
END:VEVENT
BEGIN:VEVENT
DTSTART;TZID=Europe/Vienna:20260910T093000
DTEND;TZID=Europe/Vienna:20260910T133000
DTSTAMP:20260424T040941
CREATED:20260309T230228Z
LAST-MODIFIED:20260416T181734Z
UID:10006825-1789032600-1789047000@fahrschule-dubovsky.at
SUMMARY:Grundwissen 7/8
DESCRIPTION:
URL:https://fahrschule-dubovsky.at/termin/grundwissen-7-8-87/
LOCATION:Fahrschule Dubovsky Schönaugasse 19 8010 Graz Lehrsaal 1
CATEGORIES:Dubovsky Center
END:VEVENT
BEGIN:VEVENT
DTSTART;TZID=Europe/Vienna:20260910T162000
DTEND;TZID=Europe/Vienna:20260910T202000
DTSTAMP:20260424T040941
CREATED:20260309T230228Z
LAST-MODIFIED:20260416T181734Z
UID:10006826-1789057200-1789071600@fahrschule-dubovsky.at
SUMMARY:Grundwissen 7/8
DESCRIPTION:
URL:https://fahrschule-dubovsky.at/termin/grundwissen-7-8-88/
LOCATION:Fahrschule Dubovsky Schönaugasse 19 8010 Graz Lehrsaal 1
CATEGORIES:Dubovsky Center
END:VEVENT
BEGIN:VEVENT
DTSTART;TZID=Europe/Vienna:20260914T093000
DTEND;TZID=Europe/Vienna:20260914T133000
DTSTAMP:20260424T040941
CREATED:20260313T231833Z
LAST-MODIFIED:20260416T181734Z
UID:10006828-1789378200-1789392600@fahrschule-dubovsky.at
SUMMARY:Grundwissen 9/10
DESCRIPTION:
URL:https://fahrschule-dubovsky.at/termin/grundwissen-9-10-94/
LOCATION:Fahrschule Dubovsky Schönaugasse 19 8010 Graz Lehrsaal 1
CATEGORIES:Dubovsky Center
END:VEVENT
BEGIN:VEVENT
DTSTART;TZID=Europe/Vienna:20260914T162000
DTEND;TZID=Europe/Vienna:20260914T200000
DTSTAMP:20260424T040941
CREATED:20260313T231833Z
LAST-MODIFIED:20260416T181734Z
UID:10006829-1789402800-1789416000@fahrschule-dubovsky.at
SUMMARY:Grundwissen 9/10
DESCRIPTION:
URL:https://fahrschule-dubovsky.at/termin/grundwissen-9-10-95/
LOCATION:Fahrschule Dubovsky Schönaugasse 19 8010 Graz Lehrsaal 1
CATEGORIES:Dubovsky Center
END:VEVENT
BEGIN:VEVENT
DTSTART;TZID=Europe/Vienna:20260915T133000
DTEND;TZID=Europe/Vienna:20260915T150000
DTSTAMP:20260424T040941
CREATED:20260314T230148Z
LAST-MODIFIED:20260416T181735Z
UID:10006830-1789479000-1789484400@fahrschule-dubovsky.at
SUMMARY:Theorieprüfung
DESCRIPTION:
URL:https://fahrschule-dubovsky.at/termin/theoriepruefung-60/
LOCATION:Fahrschule Dubovsky Schönaugasse 19 8010 Graz Lehrsaal 1
CATEGORIES:Dubovsky Center
END:VEVENT
BEGIN:VEVENT
DTSTART;TZID=Europe/Vienna:20260915T162000
DTEND;TZID=Europe/Vienna:20260915T202000
DTSTAMP:20260424T040941
CREATED:20260314T230149Z
LAST-MODIFIED:20260416T181735Z
UID:10006831-1789489200-1789503600@fahrschule-dubovsky.at
SUMMARY:B-Kurs 1/2
DESCRIPTION:
URL:https://fahrschule-dubovsky.at/termin/b-kurs-1-2-94/
LOCATION:Fahrschule Dubovsky Schönaugasse 19 8010 Graz Lehrsaal 1
CATEGORIES:Dubovsky Center
END:VEVENT
BEGIN:VEVENT
DTSTART;TZID=Europe/Vienna:20260916T162000
DTEND;TZID=Europe/Vienna:20260916T202000
DTSTAMP:20260424T040941
CREATED:20260315T230135Z
LAST-MODIFIED:20260416T181735Z
UID:10006832-1789575600-1789590000@fahrschule-dubovsky.at
SUMMARY:B-Kurs 3/4
DESCRIPTION:
URL:https://fahrschule-dubovsky.at/termin/b-kurs-3-4-92/
LOCATION:Fahrschule Dubovsky Schönaugasse 19 8010 Graz Lehrsaal 1
CATEGORIES:Dubovsky Center
END:VEVENT
BEGIN:VEVENT
DTSTART;TZID=Europe/Vienna:20260917T162000
DTEND;TZID=Europe/Vienna:20260917T202000
DTSTAMP:20260424T040941
CREATED:20260316T231821Z
LAST-MODIFIED:20260416T181735Z
UID:10006833-1789662000-1789676400@fahrschule-dubovsky.at
SUMMARY:B-Kurs 5/6
DESCRIPTION:
URL:https://fahrschule-dubovsky.at/termin/b-kurs-5-6-87/
LOCATION:Fahrschule Dubovsky Schönaugasse 19 8010 Graz Lehrsaal 1
CATEGORIES:Dubovsky Center
END:VEVENT
BEGIN:VEVENT
DTSTART;TZID=Europe/Vienna:20260918T133000
DTEND;TZID=Europe/Vienna:20260918T193000
DTSTAMP:20260424T040941
CREATED:20260317T233206Z
LAST-MODIFIED:20260416T181735Z
UID:10006834-1789738200-1789759800@fahrschule-dubovsky.at
SUMMARY:Mopedkurs
DESCRIPTION:
URL:https://fahrschule-dubovsky.at/termin/mopedkurs-34/
LOCATION:Fahrschule Dubovsky Schönaugasse 19 8010 Graz Lehrsaal 1
CATEGORIES:Dubovsky Center
END:VEVENT
BEGIN:VEVENT
DTSTART;TZID=Europe/Vienna:20260921T162000
DTEND;TZID=Europe/Vienna:20260921T200000
DTSTAMP:20260424T040941
CREATED:20260321T014752Z
LAST-MODIFIED:20260416T181735Z
UID:10006836-1790007600-1790020800@fahrschule-dubovsky.at
SUMMARY:Grundwissen 1/2
DESCRIPTION:
URL:https://fahrschule-dubovsky.at/termin/grundwissen-1-2-76/
LOCATION:Fahrschule Dubovsky Schönaugasse 19 8010 Graz Lehrsaal 1
CATEGORIES:Dubovsky Center
END:VEVENT
BEGIN:VEVENT
DTSTART;TZID=Europe/Vienna:20260922T162000
DTEND;TZID=Europe/Vienna:20260922T200000
DTSTAMP:20260424T040941
CREATED:20260322T070127Z
LAST-MODIFIED:20260416T181735Z
UID:10006838-1790094000-1790107200@fahrschule-dubovsky.at
SUMMARY:Grundwissen 3/4
DESCRIPTION:
URL:https://fahrschule-dubovsky.at/termin/grundwissen-3-4-78/
LOCATION:Fahrschule Dubovsky Schönaugasse 19 8010 Graz Lehrsaal 1
CATEGORIES:Dubovsky Center
END:VEVENT
BEGIN:VEVENT
DTSTART;TZID=Europe/Vienna:20260923T133000
DTEND;TZID=Europe/Vienna:20260923T143000
DTSTAMP:20260424T040941
CREATED:20260322T233135Z
LAST-MODIFIED:20260416T181735Z
UID:10006839-1790170200-1790173800@fahrschule-dubovsky.at
SUMMARY:Mopedprüfung
DESCRIPTION:
URL:https://fahrschule-dubovsky.at/termin/mopedpruefung-18/
LOCATION:Fahrschule Dubovsky Schönaugasse 19 8010 Graz Lehrsaal 1
CATEGORIES:Dubovsky Center
END:VEVENT
BEGIN:VEVENT
DTSTART;TZID=Europe/Vienna:20260923T162000
DTEND;TZID=Europe/Vienna:20260923T200000
DTSTAMP:20260424T040941
CREATED:20260322T233136Z
LAST-MODIFIED:20260416T181735Z
UID:10006840-1790180400-1790193600@fahrschule-dubovsky.at
SUMMARY:Grundwissen 5/6
DESCRIPTION:
URL:https://fahrschule-dubovsky.at/termin/grundwissen-5-6-92/
LOCATION:Fahrschule Dubovsky Schönaugasse 19 8010 Graz Lehrsaal 1
CATEGORIES:Dubovsky Center
END:VEVENT
BEGIN:VEVENT
DTSTART;TZID=Europe/Vienna:20260924T160000
DTEND;TZID=Europe/Vienna:20260924T200000
DTSTAMP:20260424T040941
CREATED:20260323T233137Z
LAST-MODIFIED:20260416T181735Z
UID:10006842-1790265600-1790280000@fahrschule-dubovsky.at
SUMMARY:Grundwissen 7/8
DESCRIPTION:
URL:https://fahrschule-dubovsky.at/termin/grundwissen-7-8-90/
LOCATION:Fahrschule Dubovsky Schönaugasse 19 8010 Graz Lehrsaal 1
CATEGORIES:Dubovsky Center
END:VEVENT
BEGIN:VEVENT
DTSTART;TZID=Europe/Vienna:20260924T162000
DTEND;TZID=Europe/Vienna:20260924T202000
DTSTAMP:20260424T040941
CREATED:20260323T233137Z
LAST-MODIFIED:20260416T181736Z
UID:10006841-1790266800-1790281200@fahrschule-dubovsky.at
SUMMARY:Grundwissen 7/8
DESCRIPTION:
URL:https://fahrschule-dubovsky.at/termin/grundwissen-7-8-89/
LOCATION:Fahrschule Dubovsky Schönaugasse 19 8010 Graz Lehrsaal 1
CATEGORIES:Dubovsky Center
END:VEVENT
BEGIN:VEVENT
DTSTART;TZID=Europe/Vienna:20260925T180000
DTEND;TZID=Europe/Vienna:20260925T220000
DTSTAMP:20260424T040941
CREATED:20260326T110128Z
LAST-MODIFIED:20260416T181736Z
UID:10006844-1790359200-1790373600@fahrschule-dubovsky.at
SUMMARY:Erste Hilfe Kurs
DESCRIPTION:
URL:https://fahrschule-dubovsky.at/termin/erste-hilfe-kurs-29/
LOCATION:Fahrschule Dubovsky Schönaugasse 19 8010 Graz Lehrsaal 1
CATEGORIES:Dubovsky Center
END:VEVENT
END:VCALENDAR