BEGIN:VCALENDAR
VERSION:2.0
PRODID:-//Fahrschule Dubovsky - ECPv6.15.20//NONSGML v1.0//EN
CALSCALE:GREGORIAN
METHOD:PUBLISH
X-WR-CALNAME:Fahrschule Dubovsky
X-ORIGINAL-URL:https://fahrschule-dubovsky.at
X-WR-CALDESC:Veranstaltungen für Fahrschule Dubovsky
REFRESH-INTERVAL;VALUE=DURATION:PT1H
X-Robots-Tag:noindex
X-PUBLISHED-TTL:PT1H
BEGIN:VTIMEZONE
TZID:Europe/Vienna
BEGIN:DAYLIGHT
TZOFFSETFROM:+0100
TZOFFSETTO:+0200
TZNAME:CEST
DTSTART:20250330T010000
END:DAYLIGHT
BEGIN:STANDARD
TZOFFSETFROM:+0200
TZOFFSETTO:+0100
TZNAME:CET
DTSTART:20251026T010000
END:STANDARD
BEGIN:DAYLIGHT
TZOFFSETFROM:+0100
TZOFFSETTO:+0200
TZNAME:CEST
DTSTART:20260329T010000
END:DAYLIGHT
BEGIN:STANDARD
TZOFFSETFROM:+0200
TZOFFSETTO:+0100
TZNAME:CET
DTSTART:20261025T010000
END:STANDARD
BEGIN:DAYLIGHT
TZOFFSETFROM:+0100
TZOFFSETTO:+0200
TZNAME:CEST
DTSTART:20270328T010000
END:DAYLIGHT
BEGIN:STANDARD
TZOFFSETFROM:+0200
TZOFFSETTO:+0100
TZNAME:CET
DTSTART:20271031T010000
END:STANDARD
END:VTIMEZONE
BEGIN:VEVENT
DTSTART;TZID=Europe/Vienna:20260422T162000
DTEND;TZID=Europe/Vienna:20260422T200000
DTSTAMP:20260423T132909
CREATED:20251113T080010Z
LAST-MODIFIED:20260416T181716Z
UID:10006409-1776874800-1776888000@fahrschule-dubovsky.at
SUMMARY:Grundwissen 5/6
DESCRIPTION:
URL:https://fahrschule-dubovsky.at/termin/grundwissen-5-6-52/
LOCATION:Fahrschule Dubovsky Schönaugasse 19 8010 Graz Lehrsaal 1
CATEGORIES:Dubovsky Center
END:VEVENT
BEGIN:VEVENT
DTSTART;TZID=Europe/Vienna:20260422T160000
DTEND;TZID=Europe/Vienna:20260422T200000
DTSTAMP:20260423T132909
CREATED:20251106T085919Z
LAST-MODIFIED:20251113T065928Z
UID:10005955-1776873600-1776888000@fahrschule-dubovsky.at
SUMMARY:Grundwissen 5/6
DESCRIPTION:
URL:https://fahrschule-dubovsky.at/termin/grundwissen-5-6-20/
LOCATION:Fahrschule Dubovsky Schönaugasse 19 8010 Graz Lehrsaal 1
CATEGORIES:Dubovsky Center
END:VEVENT
BEGIN:VEVENT
DTSTART;TZID=Europe/Vienna:20260421T162000
DTEND;TZID=Europe/Vienna:20260421T200000
DTSTAMP:20260423T132909
CREATED:20251113T080009Z
LAST-MODIFIED:20260416T181715Z
UID:10006408-1776788400-1776801600@fahrschule-dubovsky.at
SUMMARY:Grundwissen 3/4
DESCRIPTION:
URL:https://fahrschule-dubovsky.at/termin/grundwissen-3-4-40/
LOCATION:Fahrschule Dubovsky Schönaugasse 19 8010 Graz Lehrsaal 1
CATEGORIES:Dubovsky Center
END:VEVENT
BEGIN:VEVENT
DTSTART;TZID=Europe/Vienna:20260421T160000
DTEND;TZID=Europe/Vienna:20260421T200000
DTSTAMP:20260423T132909
CREATED:20251106T085919Z
LAST-MODIFIED:20251113T065928Z
UID:10005954-1776787200-1776801600@fahrschule-dubovsky.at
SUMMARY:Grundwissen 3/4
DESCRIPTION:
URL:https://fahrschule-dubovsky.at/termin/grundwissen-3-4-8/
LOCATION:Fahrschule Dubovsky Schönaugasse 19 8010 Graz Lehrsaal 1
CATEGORIES:Dubovsky Center
END:VEVENT
BEGIN:VEVENT
DTSTART;TZID=Europe/Vienna:20260420T160000
DTEND;TZID=Europe/Vienna:20260420T200000
DTSTAMP:20260423T132909
CREATED:20251106T085918Z
LAST-MODIFIED:20251113T065928Z
UID:10005952-1776700800-1776715200@fahrschule-dubovsky.at
SUMMARY:Grundwissen 1/2
DESCRIPTION:
URL:https://fahrschule-dubovsky.at/termin/grundwissen-1-2-8/
LOCATION:Fahrschule Dubovsky Schönaugasse 19 8010 Graz Lehrsaal 1
CATEGORIES:Dubovsky Center
END:VEVENT
BEGIN:VEVENT
DTSTART;TZID=Europe/Vienna:20260417T133000
DTEND;TZID=Europe/Vienna:20260417T193000
DTSTAMP:20260423T132909
CREATED:20251016T225908Z
LAST-MODIFIED:20251106T095931Z
UID:10005854-1776432600-1776454200@fahrschule-dubovsky.at
SUMMARY:MOPED - Theoriekurs
DESCRIPTION:
URL:https://fahrschule-dubovsky.at/termin/moped-theoriekurs-11/
LOCATION:Fahrschule Dubovsky Schönaugasse 19 8010 Graz Lehrsaal 1
CATEGORIES:Dubovsky Center
END:VEVENT
BEGIN:VEVENT
DTSTART;TZID=Europe/Vienna:20260416T162000
DTEND;TZID=Europe/Vienna:20260416T202000
DTSTAMP:20260423T132909
CREATED:20251113T080008Z
LAST-MODIFIED:20260416T181715Z
UID:10006406-1776356400-1776370800@fahrschule-dubovsky.at
SUMMARY:B-Kurs 5/6
DESCRIPTION:
URL:https://fahrschule-dubovsky.at/termin/b-kurs-5-6-49/
LOCATION:Fahrschule Dubovsky Schönaugasse 19 8010 Graz Lehrsaal 1
CATEGORIES:Dubovsky Center
END:VEVENT
BEGIN:VEVENT
DTSTART;TZID=Europe/Vienna:20260416T160000
DTEND;TZID=Europe/Vienna:20260416T200000
DTSTAMP:20260423T132909
CREATED:20251106T085918Z
LAST-MODIFIED:20251113T065928Z
UID:10005951-1776355200-1776369600@fahrschule-dubovsky.at
SUMMARY:B-Kurs 5/6
DESCRIPTION:
URL:https://fahrschule-dubovsky.at/termin/b-kurs-5-6-19/
LOCATION:Fahrschule Dubovsky Schönaugasse 19 8010 Graz Lehrsaal 1
CATEGORIES:Dubovsky Center
END:VEVENT
BEGIN:VEVENT
DTSTART;TZID=Europe/Vienna:20260415T162000
DTEND;TZID=Europe/Vienna:20260415T202000
DTSTAMP:20260423T132909
CREATED:20251113T080008Z
LAST-MODIFIED:20260415T173100Z
UID:10006405-1776270000-1776284400@fahrschule-dubovsky.at
SUMMARY:B-Kurs 3/4
DESCRIPTION:
URL:https://fahrschule-dubovsky.at/termin/b-kurs-3-4-51/
LOCATION:Fahrschule Dubovsky Schönaugasse 19 8010 Graz Lehrsaal 1
CATEGORIES:Dubovsky Center
END:VEVENT
BEGIN:VEVENT
DTSTART;TZID=Europe/Vienna:20260415T160000
DTEND;TZID=Europe/Vienna:20260415T200000
DTSTAMP:20260423T132909
CREATED:20251106T085918Z
LAST-MODIFIED:20251113T065927Z
UID:10005950-1776268800-1776283200@fahrschule-dubovsky.at
SUMMARY:B-Kurs 3/4
DESCRIPTION:
URL:https://fahrschule-dubovsky.at/termin/b-kurs-3-4-19/
LOCATION:Fahrschule Dubovsky Schönaugasse 19 8010 Graz Lehrsaal 1
CATEGORIES:Dubovsky Center
END:VEVENT
BEGIN:VEVENT
DTSTART;TZID=Europe/Vienna:20260414T162000
DTEND;TZID=Europe/Vienna:20260414T200000
DTSTAMP:20260423T132909
CREATED:20251113T080008Z
LAST-MODIFIED:20260413T100112Z
UID:10006404-1776183600-1776196800@fahrschule-dubovsky.at
SUMMARY:B-Kurs 1/2
DESCRIPTION:
URL:https://fahrschule-dubovsky.at/termin/b-kurs-1-2-52/
LOCATION:Fahrschule Dubovsky Schönaugasse 19 8010 Graz Lehrsaal 1
CATEGORIES:Dubovsky Center
END:VEVENT
BEGIN:VEVENT
DTSTART;TZID=Europe/Vienna:20260414T160000
DTEND;TZID=Europe/Vienna:20260414T200000
DTSTAMP:20260423T132909
CREATED:20251106T085918Z
LAST-MODIFIED:20251113T065927Z
UID:10005949-1776182400-1776196800@fahrschule-dubovsky.at
SUMMARY:B-Kurs 1/2
DESCRIPTION:
URL:https://fahrschule-dubovsky.at/termin/b-kurs-1-2-20/
LOCATION:Fahrschule Dubovsky Schönaugasse 19 8010 Graz Lehrsaal 1
CATEGORIES:Dubovsky Center
END:VEVENT
BEGIN:VEVENT
DTSTART;TZID=Europe/Vienna:20260414T133000
DTEND;TZID=Europe/Vienna:20260414T150000
DTSTAMP:20260423T132909
CREATED:20251105T134410Z
LAST-MODIFIED:20260413T100112Z
UID:10005887-1776173400-1776178800@fahrschule-dubovsky.at
SUMMARY:Theorieprüfung
DESCRIPTION:
URL:https://fahrschule-dubovsky.at/termin/theoriepruefung-21/
LOCATION:Fahrschule Dubovsky Schönaugasse 19 8010 Graz Lehrsaal 1
CATEGORIES:Dubovsky Center
END:VEVENT
BEGIN:VEVENT
DTSTART;TZID=Europe/Vienna:20260413T162000
DTEND;TZID=Europe/Vienna:20260413T202000
DTSTAMP:20260423T132909
CREATED:20251113T080008Z
LAST-MODIFIED:20260413T100111Z
UID:10006403-1776097200-1776111600@fahrschule-dubovsky.at
SUMMARY:Grundwissen 9/10
DESCRIPTION:
URL:https://fahrschule-dubovsky.at/termin/grundwissen-9-10-51/
LOCATION:Fahrschule Dubovsky Schönaugasse 19 8010 Graz Lehrsaal 1
CATEGORIES:Dubovsky Center
END:VEVENT
BEGIN:VEVENT
DTSTART;TZID=Europe/Vienna:20260413T160000
DTEND;TZID=Europe/Vienna:20260413T200000
DTSTAMP:20260423T132909
CREATED:20251106T085917Z
LAST-MODIFIED:20251113T065927Z
UID:10005948-1776096000-1776110400@fahrschule-dubovsky.at
SUMMARY:Grundwissen 9/10
DESCRIPTION:
URL:https://fahrschule-dubovsky.at/termin/grundwissen-9-10-20/
LOCATION:Fahrschule Dubovsky Schönaugasse 19 8010 Graz Lehrsaal 1
CATEGORIES:Dubovsky Center
END:VEVENT
BEGIN:VEVENT
DTSTART;TZID=Europe/Vienna:20260410T180000
DTEND;TZID=Europe/Vienna:20260410T220000
DTSTAMP:20260423T132909
CREATED:20251106T115950Z
LAST-MODIFIED:20260407T094650Z
UID:10005986-1775844000-1775858400@fahrschule-dubovsky.at
SUMMARY:Erste Hilfe Kurs
DESCRIPTION:
URL:https://fahrschule-dubovsky.at/termin/erste-hilfe-kurs-10/
LOCATION:Fahrschule Dubovsky Schönaugasse 19 8010 Graz Lehrsaal 1
CATEGORIES:Dubovsky Center
END:VEVENT
BEGIN:VEVENT
DTSTART;TZID=Europe/Vienna:20260410T160000
DTEND;TZID=Europe/Vienna:20260410T170000
DTSTAMP:20260423T132909
CREATED:20251106T115948Z
LAST-MODIFIED:20260407T094650Z
UID:10005985-1775836800-1775840400@fahrschule-dubovsky.at
SUMMARY:Theoretische Einweisung
DESCRIPTION:
URL:https://fahrschule-dubovsky.at/termin/theoretische-einweisung-4/
LOCATION:Fahrschule Dubovsky Schönaugasse 19 8010 Graz Lehrsaal 1
CATEGORIES:Dubovsky Center
END:VEVENT
BEGIN:VEVENT
DTSTART;TZID=Europe/Vienna:20260409T162000
DTEND;TZID=Europe/Vienna:20260409T202000
DTSTAMP:20260423T132909
CREATED:20251113T080007Z
LAST-MODIFIED:20260407T094650Z
UID:10006402-1775751600-1775766000@fahrschule-dubovsky.at
SUMMARY:Grundwissen 7/8
DESCRIPTION:
URL:https://fahrschule-dubovsky.at/termin/grundwissen-7-8-50/
LOCATION:Fahrschule Dubovsky Schönaugasse 19 8010 Graz Lehrsaal 1
CATEGORIES:Dubovsky Center
END:VEVENT
BEGIN:VEVENT
DTSTART;TZID=Europe/Vienna:20260409T160000
DTEND;TZID=Europe/Vienna:20260409T200000
DTSTAMP:20260423T132909
CREATED:20251106T085917Z
LAST-MODIFIED:20251113T065927Z
UID:10005947-1775750400-1775764800@fahrschule-dubovsky.at
SUMMARY:Grundwissen 7/8
DESCRIPTION:
URL:https://fahrschule-dubovsky.at/termin/grundwissen-7-8-19/
LOCATION:Fahrschule Dubovsky Schönaugasse 19 8010 Graz Lehrsaal 1
CATEGORIES:Dubovsky Center
END:VEVENT
BEGIN:VEVENT
DTSTART;TZID=Europe/Vienna:20260408T162000
DTEND;TZID=Europe/Vienna:20260408T200000
DTSTAMP:20260423T132909
CREATED:20251113T080005Z
LAST-MODIFIED:20260407T094650Z
UID:10006401-1775665200-1775678400@fahrschule-dubovsky.at
SUMMARY:Grundwissen 5/6
DESCRIPTION:
URL:https://fahrschule-dubovsky.at/termin/grundwissen-5-6-51/
LOCATION:Fahrschule Dubovsky Schönaugasse 19 8010 Graz Lehrsaal 1
CATEGORIES:Dubovsky Center
END:VEVENT
BEGIN:VEVENT
DTSTART;TZID=Europe/Vienna:20260408T160000
DTEND;TZID=Europe/Vienna:20260408T200000
DTSTAMP:20260423T132909
CREATED:20251106T085917Z
LAST-MODIFIED:20251113T065926Z
UID:10005946-1775664000-1775678400@fahrschule-dubovsky.at
SUMMARY:Grundwissen 5/6
DESCRIPTION:
URL:https://fahrschule-dubovsky.at/termin/grundwissen-5-6-19/
LOCATION:Fahrschule Dubovsky Schönaugasse 19 8010 Graz Lehrsaal 1
CATEGORIES:Dubovsky Center
END:VEVENT
BEGIN:VEVENT
DTSTART;TZID=Europe/Vienna:20260407T162000
DTEND;TZID=Europe/Vienna:20260407T200000
DTSTAMP:20260423T132909
CREATED:20251113T080005Z
LAST-MODIFIED:20260407T094650Z
UID:10006400-1775578800-1775592000@fahrschule-dubovsky.at
SUMMARY:Grundwissen 3/4
DESCRIPTION:
URL:https://fahrschule-dubovsky.at/termin/grundwissen-3-4-39/
LOCATION:Fahrschule Dubovsky Schönaugasse 19 8010 Graz Lehrsaal 1
CATEGORIES:Dubovsky Center
END:VEVENT
BEGIN:VEVENT
DTSTART;TZID=Europe/Vienna:20260407T160000
DTEND;TZID=Europe/Vienna:20260407T200000
DTSTAMP:20260423T132909
CREATED:20251106T085917Z
LAST-MODIFIED:20251113T065926Z
UID:10005945-1775577600-1775592000@fahrschule-dubovsky.at
SUMMARY:Grundwissen 3/4
DESCRIPTION:
URL:https://fahrschule-dubovsky.at/termin/grundwissen-3-4-7/
LOCATION:Fahrschule Dubovsky Schönaugasse 19 8010 Graz Lehrsaal 1
CATEGORIES:Dubovsky Center
END:VEVENT
BEGIN:VEVENT
DTSTART;TZID=Europe/Vienna:20260406T160000
DTEND;TZID=Europe/Vienna:20260406T200000
DTSTAMP:20260423T132909
CREATED:20251106T085917Z
LAST-MODIFIED:20251107T071417Z
UID:10005943-1775491200-1775505600@fahrschule-dubovsky.at
SUMMARY:Grundwissen 1/2
DESCRIPTION:
URL:https://fahrschule-dubovsky.at/termin/grundwissen-1-2-7/
LOCATION:Fahrschule Dubovsky Schönaugasse 19 8010 Graz Lehrsaal 1
CATEGORIES:Dubovsky Center
END:VEVENT
BEGIN:VEVENT
DTSTART;TZID=Europe/Vienna:20260403T133000
DTEND;TZID=Europe/Vienna:20260403T193000
DTSTAMP:20260423T132909
CREATED:20251106T105915Z
LAST-MODIFIED:20260403T164821Z
UID:10005967-1775223000-1775244600@fahrschule-dubovsky.at
SUMMARY:Mopedkurs
DESCRIPTION:
URL:https://fahrschule-dubovsky.at/termin/mopedkurs-7/
LOCATION:Fahrschule Dubovsky Schönaugasse 19 8010 Graz Lehrsaal 1
CATEGORIES:Dubovsky Center
END:VEVENT
BEGIN:VEVENT
DTSTART;TZID=Europe/Vienna:20260403T133000
DTEND;TZID=Europe/Vienna:20260403T193000
DTSTAMP:20260423T132909
CREATED:20251002T221358Z
LAST-MODIFIED:20251106T095930Z
UID:10005852-1775223000-1775244600@fahrschule-dubovsky.at
SUMMARY:Theoriekurs A-Spezifisch
DESCRIPTION:
URL:https://fahrschule-dubovsky.at/termin/theoriekurs-a-spezifisch-10/
LOCATION:Fahrschule Dubovsky Schönaugasse 19 8010 Graz Lehrsaal 1
CATEGORIES:Dubovsky Center
END:VEVENT
BEGIN:VEVENT
DTSTART;TZID=Europe/Vienna:20260402T162000
DTEND;TZID=Europe/Vienna:20260402T202000
DTSTAMP:20260423T132909
CREATED:20251113T080004Z
LAST-MODIFIED:20260402T173147Z
UID:10006399-1775146800-1775161200@fahrschule-dubovsky.at
SUMMARY:B-Kurs 5/6
DESCRIPTION:
URL:https://fahrschule-dubovsky.at/termin/b-kurs-5-6-48/
LOCATION:Fahrschule Dubovsky Schönaugasse 19 8010 Graz Lehrsaal 1
CATEGORIES:Dubovsky Center
END:VEVENT
BEGIN:VEVENT
DTSTART;TZID=Europe/Vienna:20260402T160000
DTEND;TZID=Europe/Vienna:20260402T200000
DTSTAMP:20260423T132909
CREATED:20251106T085916Z
LAST-MODIFIED:20251113T065926Z
UID:10005942-1775145600-1775160000@fahrschule-dubovsky.at
SUMMARY:B-Kurs 5/6
DESCRIPTION:
URL:https://fahrschule-dubovsky.at/termin/b-kurs-5-6-18/
LOCATION:Fahrschule Dubovsky Schönaugasse 19 8010 Graz Lehrsaal 1
CATEGORIES:Dubovsky Center
END:VEVENT
BEGIN:VEVENT
DTSTART;TZID=Europe/Vienna:20260401T162000
DTEND;TZID=Europe/Vienna:20260401T202000
DTSTAMP:20260423T132909
CREATED:20251113T080004Z
LAST-MODIFIED:20260401T014611Z
UID:10006398-1775060400-1775074800@fahrschule-dubovsky.at
SUMMARY:B-Kurs 3/4
DESCRIPTION:
URL:https://fahrschule-dubovsky.at/termin/b-kurs-3-4-50/
LOCATION:Fahrschule Dubovsky Schönaugasse 19 8010 Graz Lehrsaal 1
CATEGORIES:Dubovsky Center
END:VEVENT
BEGIN:VEVENT
DTSTART;TZID=Europe/Vienna:20260401T160000
DTEND;TZID=Europe/Vienna:20260401T200000
DTSTAMP:20260423T132909
CREATED:20251106T085916Z
LAST-MODIFIED:20251113T065926Z
UID:10005941-1775059200-1775073600@fahrschule-dubovsky.at
SUMMARY:B-Kurs 3/4
DESCRIPTION:
URL:https://fahrschule-dubovsky.at/termin/b-kurs-3-4-18/
LOCATION:Fahrschule Dubovsky Schönaugasse 19 8010 Graz Lehrsaal 1
CATEGORIES:Dubovsky Center
END:VEVENT
END:VCALENDAR