BEGIN:VCALENDAR
VERSION:2.0
PRODID:-//Fahrschule Dubovsky - ECPv6.15.20//NONSGML v1.0//EN
CALSCALE:GREGORIAN
METHOD:PUBLISH
X-WR-CALNAME:Fahrschule Dubovsky
X-ORIGINAL-URL:https://fahrschule-dubovsky.at
X-WR-CALDESC:Veranstaltungen für Fahrschule Dubovsky
REFRESH-INTERVAL;VALUE=DURATION:PT1H
X-Robots-Tag:noindex
X-PUBLISHED-TTL:PT1H
BEGIN:VTIMEZONE
TZID:Europe/Vienna
BEGIN:DAYLIGHT
TZOFFSETFROM:+0100
TZOFFSETTO:+0200
TZNAME:CEST
DTSTART:20250330T010000
END:DAYLIGHT
BEGIN:STANDARD
TZOFFSETFROM:+0200
TZOFFSETTO:+0100
TZNAME:CET
DTSTART:20251026T010000
END:STANDARD
BEGIN:DAYLIGHT
TZOFFSETFROM:+0100
TZOFFSETTO:+0200
TZNAME:CEST
DTSTART:20260329T010000
END:DAYLIGHT
BEGIN:STANDARD
TZOFFSETFROM:+0200
TZOFFSETTO:+0100
TZNAME:CET
DTSTART:20261025T010000
END:STANDARD
BEGIN:DAYLIGHT
TZOFFSETFROM:+0100
TZOFFSETTO:+0200
TZNAME:CEST
DTSTART:20270328T010000
END:DAYLIGHT
BEGIN:STANDARD
TZOFFSETFROM:+0200
TZOFFSETTO:+0100
TZNAME:CET
DTSTART:20271031T010000
END:STANDARD
END:VTIMEZONE
BEGIN:VEVENT
DTSTART;TZID=Europe/Vienna:20260421T080000
DTEND;TZID=Europe/Vienna:20260421T140000
DTSTAMP:20260423T104426
CREATED:20251106T085919Z
LAST-MODIFIED:20260416T181715Z
UID:10005953-1776758400-1776780000@fahrschule-dubovsky.at
SUMMARY:Praxisprüfung
DESCRIPTION:
URL:https://fahrschule-dubovsky.at/termin/praxispruefung-33/
LOCATION:Übungsplatz\, Fahrschule Dubovsky\, Triesterstraße 432\, 8055 Graz
CATEGORIES:Dubovsky Center
END:VEVENT
BEGIN:VEVENT
DTSTART;TZID=Europe/Vienna:20260421T133000
DTEND;TZID=Europe/Vienna:20260421T153000
DTSTAMP:20260423T104426
CREATED:20251107T104500Z
LAST-MODIFIED:20260421T123133Z
UID:10006014-1776778200-1776785400@fahrschule-dubovsky.at
SUMMARY:Theorieprüfung
DESCRIPTION:
URL:https://fahrschule-dubovsky.at/termin/theoriepruefung-30/
LOCATION:\, Fahrschule Dubovsky – Grenzgasse 4 – SÜD
CATEGORIES:Dubovsky Süd
END:VEVENT
BEGIN:VEVENT
DTSTART;TZID=Europe/Vienna:20260421T160000
DTEND;TZID=Europe/Vienna:20260421T200000
DTSTAMP:20260423T104426
CREATED:20251106T085919Z
LAST-MODIFIED:20251113T065928Z
UID:10005954-1776787200-1776801600@fahrschule-dubovsky.at
SUMMARY:Grundwissen 3/4
DESCRIPTION:
URL:https://fahrschule-dubovsky.at/termin/grundwissen-3-4-8/
LOCATION:Fahrschule Dubovsky Schönaugasse 19 8010 Graz Lehrsaal 1
CATEGORIES:Dubovsky Center
END:VEVENT
BEGIN:VEVENT
DTSTART;TZID=Europe/Vienna:20260421T160000
DTEND;TZID=Europe/Vienna:20260421T200000
DTSTAMP:20260423T104426
CREATED:20251107T114414Z
LAST-MODIFIED:20251113T071502Z
UID:10006103-1776787200-1776801600@fahrschule-dubovsky.at
SUMMARY:B Kurs 1/2
DESCRIPTION:
URL:https://fahrschule-dubovsky.at/termin/b-kurs-1-2-29/
LOCATION:Fahrschule Dubovsky SÜD\, Grenzgasse 4\, 8055 Graz
CATEGORIES:Dubovsky Süd
END:VEVENT
BEGIN:VEVENT
DTSTART;TZID=Europe/Vienna:20260421T162000
DTEND;TZID=Europe/Vienna:20260421T200000
DTSTAMP:20260423T104426
CREATED:20251113T080009Z
LAST-MODIFIED:20260416T181715Z
UID:10006408-1776788400-1776801600@fahrschule-dubovsky.at
SUMMARY:Grundwissen 3/4
DESCRIPTION:
URL:https://fahrschule-dubovsky.at/termin/grundwissen-3-4-40/
LOCATION:Fahrschule Dubovsky Schönaugasse 19 8010 Graz Lehrsaal 1
CATEGORIES:Dubovsky Center
END:VEVENT
BEGIN:VEVENT
DTSTART;TZID=Europe/Vienna:20260421T162000
DTEND;TZID=Europe/Vienna:20260421T200000
DTSTAMP:20260423T104426
CREATED:20251113T081432Z
LAST-MODIFIED:20260421T170106Z
UID:10006446-1776788400-1776801600@fahrschule-dubovsky.at
SUMMARY:B Kurs 1/2
DESCRIPTION:
URL:https://fahrschule-dubovsky.at/termin/b-kurs-1-2-61/
LOCATION:Fahrschule Dubovsky SÜD\, Grenzgasse 4\, 8055 Graz
CATEGORIES:Dubovsky Süd
END:VEVENT
END:VCALENDAR